BEGIN:VCALENDAR
VERSION:2.0
PRODID:-//West Shore Village Boca Bay - ECPv6.15.20//NONSGML v1.0//EN
CALSCALE:GREGORIAN
METHOD:PUBLISH
X-ORIGINAL-URL:https://westshorevillage.net
X-WR-CALDESC:Events for West Shore Village Boca Bay
REFRESH-INTERVAL;VALUE=DURATION:PT1H
X-Robots-Tag:noindex
X-PUBLISHED-TTL:PT1H
BEGIN:VTIMEZONE
TZID:America/New_York
BEGIN:DAYLIGHT
TZOFFSETFROM:-0500
TZOFFSETTO:-0400
TZNAME:EDT
DTSTART:20240310T070000
END:DAYLIGHT
BEGIN:STANDARD
TZOFFSETFROM:-0400
TZOFFSETTO:-0500
TZNAME:EST
DTSTART:20241103T060000
END:STANDARD
BEGIN:DAYLIGHT
TZOFFSETFROM:-0500
TZOFFSETTO:-0400
TZNAME:EDT
DTSTART:20250309T070000
END:DAYLIGHT
BEGIN:STANDARD
TZOFFSETFROM:-0400
TZOFFSETTO:-0500
TZNAME:EST
DTSTART:20251102T060000
END:STANDARD
BEGIN:DAYLIGHT
TZOFFSETFROM:-0500
TZOFFSETTO:-0400
TZNAME:EDT
DTSTART:20260308T070000
END:DAYLIGHT
BEGIN:STANDARD
TZOFFSETFROM:-0400
TZOFFSETTO:-0500
TZNAME:EST
DTSTART:20261101T060000
END:STANDARD
END:VTIMEZONE
BEGIN:VEVENT
DTSTART;TZID=America/New_York:20251001T190000
DTEND;TZID=America/New_York:20251001T200000
DTSTAMP:20260420T013348
CREATED:20250612T134522Z
LAST-MODIFIED:20250909T140517Z
UID:3843-1759345200-1759348800@westshorevillage.net
SUMMARY:Dominoes
DESCRIPTION:
URL:https://westshorevillage.net/event/dominoes-9/
LOCATION:Club House
END:VEVENT
BEGIN:VEVENT
DTSTART;TZID=America/New_York:20251002T093000
DTEND;TZID=America/New_York:20251002T110000
DTSTAMP:20260420T013348
CREATED:20250612T134912Z
LAST-MODIFIED:20250909T141040Z
UID:3857-1759397400-1759402800@westshorevillage.net
SUMMARY:Shuffleboard
DESCRIPTION:
URL:https://westshorevillage.net/event/shuffleboard-33/
END:VEVENT
BEGIN:VEVENT
DTSTART;TZID=America/New_York:20251002T110000
DTEND;TZID=America/New_York:20251002T120000
DTSTAMP:20260420T013348
CREATED:20250612T133738Z
LAST-MODIFIED:20250909T141720Z
UID:3794-1759402800-1759406400@westshorevillage.net
SUMMARY:Water Aerobics
DESCRIPTION:Bring a noodle with you to the pool.
URL:https://westshorevillage.net/event/water-aerobics-27/
LOCATION:Pool
END:VEVENT
BEGIN:VEVENT
DTSTART;TZID=America/New_York:20251002T190000
DTEND;TZID=America/New_York:20251002T210000
DTSTAMP:20260420T013348
CREATED:20250323T231408Z
LAST-MODIFIED:20250909T142141Z
UID:3883-1759431600-1759438800@westshorevillage.net
SUMMARY:Poker & Billiard Night
DESCRIPTION:
URL:https://westshorevillage.net/event/poker-billiard-night-12/
END:VEVENT
BEGIN:VEVENT
DTSTART;TZID=America/New_York:20251003T090000
DTEND;TZID=America/New_York:20251003T110000
DTSTAMP:20260420T013348
CREATED:20250701T180503Z
LAST-MODIFIED:20250909T142642Z
UID:3896-1759482000-1759489200@westshorevillage.net
SUMMARY:Tennis
DESCRIPTION:
URL:https://westshorevillage.net/event/tennis-21/
LOCATION:Tennis Court
END:VEVENT
BEGIN:VEVENT
DTSTART;TZID=America/New_York:20251003T181500
DTEND;TZID=America/New_York:20251003T200000
DTSTAMP:20260420T013348
CREATED:20250625T184358Z
LAST-MODIFIED:20250811T163126Z
UID:3749-1759515300-1759521600@westshorevillage.net
SUMMARY:First Friday Social - "Trivia"
DESCRIPTION:Test Your Knowledge at Trivia Night! 🏆 Ready to show off your smarts? Join us for our 1st Friday Social and take part in a lively evening of Trivia fun!Bring your best brainpower — and your friends! \n6:15 – 7:00 PM  (optional)Enjoy a relaxed social hour before the games begin. Mix and mingle\, bring a snack or drink to share\, and get ready for a great night! \n7:00 – 8:00 PMLet the trivia begin!Form a team of up to 6 players in advance or simply join us and we’ll help you create one when you arrive. \nFrom pop culture to fun facts — there’s something for everyone.Don’t miss out on the fun — see you there! \nHosted by Lesley and Bob Henage
URL:https://westshorevillage.net/event/first-friday-social-trivia/
LOCATION:Club House
END:VEVENT
BEGIN:VEVENT
DTSTART;TZID=America/New_York:20251004T080000
DTEND;TZID=America/New_York:20251004T090000
DTSTAMP:20260420T013348
CREATED:20250701T174721Z
LAST-MODIFIED:20250909T143423Z
UID:3909-1759564800-1759568400@westshorevillage.net
SUMMARY:Pickleball
DESCRIPTION:
URL:https://westshorevillage.net/event/copy-of-pickleball/
LOCATION:Pickleball Court
END:VEVENT
BEGIN:VEVENT
DTSTART;TZID=America/New_York:20251004T120000
DTEND;TZID=America/New_York:20251004T173000
DTSTAMP:20260420T013348
CREATED:20250915T171128Z
LAST-MODIFIED:20251001T183400Z
UID:3926-1759579200-1759599000@westshorevillage.net
SUMMARY:Private Event
DESCRIPTION:
URL:https://westshorevillage.net/event/private-event-25/
LOCATION:Club House
END:VEVENT
BEGIN:VEVENT
DTSTART;TZID=America/New_York:20251006T090000
DTEND;TZID=America/New_York:20251006T090000
DTSTAMP:20260420T013348
CREATED:20250701T174721Z
LAST-MODIFIED:20250909T135551Z
UID:3817-1759741200-1759741200@westshorevillage.net
SUMMARY:Pickleball
DESCRIPTION:
URL:https://westshorevillage.net/event/pickleball-39/
LOCATION:Pickleball Court
END:VEVENT
BEGIN:VEVENT
DTSTART;TZID=America/New_York:20251006T110000
DTEND;TZID=America/New_York:20251006T120000
DTSTAMP:20260420T013348
CREATED:20250612T133738Z
LAST-MODIFIED:20250909T135951Z
UID:3830-1759748400-1759752000@westshorevillage.net
SUMMARY:Water Aerobics
DESCRIPTION:
URL:https://westshorevillage.net/event/water-aerobics-34/
LOCATION:Pool
END:VEVENT
BEGIN:VEVENT
DTSTART;TZID=America/New_York:20251008T183000
DTEND;TZID=America/New_York:20251008T193000
DTSTAMP:20260420T013348
CREATED:20251006T181122Z
LAST-MODIFIED:20251006T181127Z
UID:3948-1759948200-1759951800@westshorevillage.net
SUMMARY:WSV SPECIAL BOARD MEETING
DESCRIPTION:
URL:https://westshorevillage.net/event/wsv-special-board-meeting/
LOCATION:Club House
END:VEVENT
BEGIN:VEVENT
DTSTART;TZID=America/New_York:20251008T190000
DTEND;TZID=America/New_York:20251008T200000
DTSTAMP:20260420T013348
CREATED:20250612T134522Z
LAST-MODIFIED:20250909T140533Z
UID:3844-1759950000-1759953600@westshorevillage.net
SUMMARY:Dominoes
DESCRIPTION:
URL:https://westshorevillage.net/event/dominoes-15/
LOCATION:Club House
END:VEVENT
BEGIN:VEVENT
DTSTART;TZID=America/New_York:20251009T093000
DTEND;TZID=America/New_York:20251009T110000
DTSTAMP:20260420T013348
CREATED:20250612T134912Z
LAST-MODIFIED:20250909T141055Z
UID:3858-1760002200-1760007600@westshorevillage.net
SUMMARY:Shuffleboard
DESCRIPTION:
URL:https://westshorevillage.net/event/shuffleboard-34/
END:VEVENT
BEGIN:VEVENT
DTSTART;TZID=America/New_York:20251009T110000
DTEND;TZID=America/New_York:20251009T120000
DTSTAMP:20260420T013348
CREATED:20250612T133738Z
LAST-MODIFIED:20250909T141737Z
UID:3871-1760007600-1760011200@westshorevillage.net
SUMMARY:Water Aerobics
DESCRIPTION:Bring a noodle with you to the pool.
URL:https://westshorevillage.net/event/water-aerobics-47/
LOCATION:Pool
END:VEVENT
BEGIN:VEVENT
DTSTART;TZID=America/New_York:20251009T190000
DTEND;TZID=America/New_York:20251009T210000
DTSTAMP:20260420T013348
CREATED:20250323T231408Z
LAST-MODIFIED:20250909T142156Z
UID:3884-1760036400-1760043600@westshorevillage.net
SUMMARY:Poker & Billiard Night
DESCRIPTION:
URL:https://westshorevillage.net/event/poker-billiard-night-17/
END:VEVENT
BEGIN:VEVENT
DTSTART;TZID=America/New_York:20251010T090000
DTEND;TZID=America/New_York:20251010T110000
DTSTAMP:20260420T013348
CREATED:20250701T180503Z
LAST-MODIFIED:20250909T142656Z
UID:3897-1760086800-1760094000@westshorevillage.net
SUMMARY:Tennis
DESCRIPTION:
URL:https://westshorevillage.net/event/tennis-22/
LOCATION:Tennis Court
END:VEVENT
BEGIN:VEVENT
DTSTART;TZID=America/New_York:20251011T080000
DTEND;TZID=America/New_York:20251011T090000
DTSTAMP:20260420T013348
CREATED:20250701T174721Z
LAST-MODIFIED:20250909T143112Z
UID:3910-1760169600-1760173200@westshorevillage.net
SUMMARY:Pickleball
DESCRIPTION:
URL:https://westshorevillage.net/event/pickleball-52/
LOCATION:Pickleball Court
END:VEVENT
BEGIN:VEVENT
DTSTART;TZID=America/New_York:20251013T090000
DTEND;TZID=America/New_York:20251013T090000
DTSTAMP:20260420T013348
CREATED:20250701T174721Z
LAST-MODIFIED:20250909T135610Z
UID:3818-1760346000-1760346000@westshorevillage.net
SUMMARY:Pickleball
DESCRIPTION:
URL:https://westshorevillage.net/event/pickleball-40/
LOCATION:Pickleball Court
END:VEVENT
BEGIN:VEVENT
DTSTART;TZID=America/New_York:20251013T110000
DTEND;TZID=America/New_York:20251013T120000
DTSTAMP:20260420T013348
CREATED:20250612T133738Z
LAST-MODIFIED:20250909T140012Z
UID:3831-1760353200-1760356800@westshorevillage.net
SUMMARY:Water Aerobics
DESCRIPTION:
URL:https://westshorevillage.net/event/water-aerobics-35/
LOCATION:Pool
END:VEVENT
BEGIN:VEVENT
DTSTART;TZID=America/New_York:20251015T190000
DTEND;TZID=America/New_York:20251015T200000
DTSTAMP:20260420T013348
CREATED:20250612T134522Z
LAST-MODIFIED:20250909T140546Z
UID:3845-1760554800-1760558400@westshorevillage.net
SUMMARY:Dominoes
DESCRIPTION:
URL:https://westshorevillage.net/event/dominoes-21/
LOCATION:Club House
END:VEVENT
BEGIN:VEVENT
DTSTART;TZID=America/New_York:20251016T093000
DTEND;TZID=America/New_York:20251016T110000
DTSTAMP:20260420T013348
CREATED:20250612T134912Z
LAST-MODIFIED:20250909T141110Z
UID:3859-1760607000-1760612400@westshorevillage.net
SUMMARY:Shuffleboard
DESCRIPTION:
URL:https://westshorevillage.net/event/shuffleboard-35/
END:VEVENT
BEGIN:VEVENT
DTSTART;TZID=America/New_York:20251016T110000
DTEND;TZID=America/New_York:20251016T120000
DTSTAMP:20260420T013348
CREATED:20250612T133738Z
LAST-MODIFIED:20250909T141755Z
UID:3872-1760612400-1760616000@westshorevillage.net
SUMMARY:Water Aerobics
DESCRIPTION:Bring a noodle with you to the pool.
URL:https://westshorevillage.net/event/water-aerobics-48/
LOCATION:Pool
END:VEVENT
BEGIN:VEVENT
DTSTART;TZID=America/New_York:20251016T190000
DTEND;TZID=America/New_York:20251016T210000
DTSTAMP:20260420T013348
CREATED:20250323T231408Z
LAST-MODIFIED:20250909T142214Z
UID:3885-1760641200-1760648400@westshorevillage.net
SUMMARY:Poker & Billiard Night
DESCRIPTION:
URL:https://westshorevillage.net/event/poker-billiard-night-22/
END:VEVENT
BEGIN:VEVENT
DTSTART;TZID=America/New_York:20251017T090000
DTEND;TZID=America/New_York:20251017T110000
DTSTAMP:20260420T013348
CREATED:20250701T180503Z
LAST-MODIFIED:20250909T142712Z
UID:3898-1760691600-1760698800@westshorevillage.net
SUMMARY:Tennis
DESCRIPTION:
URL:https://westshorevillage.net/event/tennis-23/
LOCATION:Tennis Court
END:VEVENT
BEGIN:VEVENT
DTSTART;TZID=America/New_York:20251018T080000
DTEND;TZID=America/New_York:20251018T090000
DTSTAMP:20260420T013348
CREATED:20250701T174721Z
LAST-MODIFIED:20250909T143129Z
UID:3911-1760774400-1760778000@westshorevillage.net
SUMMARY:Pickleball
DESCRIPTION:
URL:https://westshorevillage.net/event/pickleball-53/
LOCATION:Pickleball Court
END:VEVENT
BEGIN:VEVENT
DTSTART;TZID=America/New_York:20251020T090000
DTEND;TZID=America/New_York:20251020T090000
DTSTAMP:20260420T013348
CREATED:20250701T174721Z
LAST-MODIFIED:20250909T135626Z
UID:3819-1760950800-1760950800@westshorevillage.net
SUMMARY:Pickleball
DESCRIPTION:
URL:https://westshorevillage.net/event/pickleball-41/
LOCATION:Pickleball Court
END:VEVENT
BEGIN:VEVENT
DTSTART;TZID=America/New_York:20251020T110000
DTEND;TZID=America/New_York:20251020T120000
DTSTAMP:20260420T013348
CREATED:20250612T133738Z
LAST-MODIFIED:20250909T140028Z
UID:3832-1760958000-1760961600@westshorevillage.net
SUMMARY:Water Aerobics
DESCRIPTION:
URL:https://westshorevillage.net/event/water-aerobics-36/
LOCATION:Pool
END:VEVENT
BEGIN:VEVENT
DTSTART;TZID=America/New_York:20251022T190000
DTEND;TZID=America/New_York:20251022T200000
DTSTAMP:20260420T013348
CREATED:20250612T134522Z
LAST-MODIFIED:20250909T140603Z
UID:3846-1761159600-1761163200@westshorevillage.net
SUMMARY:Dominoes
DESCRIPTION:
URL:https://westshorevillage.net/event/dominoes-22/
LOCATION:Club House
END:VEVENT
BEGIN:VEVENT
DTSTART;TZID=America/New_York:20251023T093000
DTEND;TZID=America/New_York:20251023T110000
DTSTAMP:20260420T013348
CREATED:20250612T134912Z
LAST-MODIFIED:20250909T141125Z
UID:3860-1761211800-1761217200@westshorevillage.net
SUMMARY:Shuffleboard
DESCRIPTION:
URL:https://westshorevillage.net/event/shuffleboard-36/
END:VEVENT
BEGIN:VEVENT
DTSTART;TZID=America/New_York:20251023T110000
DTEND;TZID=America/New_York:20251023T120000
DTSTAMP:20260420T013348
CREATED:20250612T133738Z
LAST-MODIFIED:20250909T141811Z
UID:3873-1761217200-1761220800@westshorevillage.net
SUMMARY:Water Aerobics
DESCRIPTION:Bring a noodle with you to the pool.
URL:https://westshorevillage.net/event/water-aerobics-49/
LOCATION:Pool
END:VEVENT
END:VCALENDAR