BEGIN:VCALENDAR
VERSION:2.0
PRODID:-//West Shore Village Boca Bay - ECPv6.15.20//NONSGML v1.0//EN
CALSCALE:GREGORIAN
METHOD:PUBLISH
X-ORIGINAL-URL:https://westshorevillage.net
X-WR-CALDESC:Events for West Shore Village Boca Bay
REFRESH-INTERVAL;VALUE=DURATION:PT1H
X-Robots-Tag:noindex
X-PUBLISHED-TTL:PT1H
BEGIN:VTIMEZONE
TZID:America/New_York
BEGIN:DAYLIGHT
TZOFFSETFROM:-0500
TZOFFSETTO:-0400
TZNAME:EDT
DTSTART:20240310T070000
END:DAYLIGHT
BEGIN:STANDARD
TZOFFSETFROM:-0400
TZOFFSETTO:-0500
TZNAME:EST
DTSTART:20241103T060000
END:STANDARD
BEGIN:DAYLIGHT
TZOFFSETFROM:-0500
TZOFFSETTO:-0400
TZNAME:EDT
DTSTART:20250309T070000
END:DAYLIGHT
BEGIN:STANDARD
TZOFFSETFROM:-0400
TZOFFSETTO:-0500
TZNAME:EST
DTSTART:20251102T060000
END:STANDARD
BEGIN:DAYLIGHT
TZOFFSETFROM:-0500
TZOFFSETTO:-0400
TZNAME:EDT
DTSTART:20260308T070000
END:DAYLIGHT
BEGIN:STANDARD
TZOFFSETFROM:-0400
TZOFFSETTO:-0500
TZNAME:EST
DTSTART:20261101T060000
END:STANDARD
END:VTIMEZONE
BEGIN:VEVENT
DTSTART;TZID=America/New_York:20250908T090000
DTEND;TZID=America/New_York:20250908T090000
DTSTAMP:20260421T120216
CREATED:20250701T174721Z
LAST-MODIFIED:20250701T175020Z
UID:3686-1757322000-1757322000@westshorevillage.net
SUMMARY:Pickleball
DESCRIPTION:
URL:https://westshorevillage.net/event/pickleball-23/
LOCATION:Pickleball Court
END:VEVENT
BEGIN:VEVENT
DTSTART;TZID=America/New_York:20250908T110000
DTEND;TZID=America/New_York:20250908T120000
DTSTAMP:20260421T120216
CREATED:20250612T133738Z
LAST-MODIFIED:20250701T175243Z
UID:3691-1757329200-1757332800@westshorevillage.net
SUMMARY:Water Aerobics
DESCRIPTION:
URL:https://westshorevillage.net/event/water-aerobics-23/
LOCATION:Pool
END:VEVENT
BEGIN:VEVENT
DTSTART;TZID=America/New_York:20250910T190000
DTEND;TZID=America/New_York:20250910T200000
DTSTAMP:20260421T120216
CREATED:20250612T134522Z
LAST-MODIFIED:20250701T175449Z
UID:3696-1757530800-1757534400@westshorevillage.net
SUMMARY:Dominoes
DESCRIPTION:
URL:https://westshorevillage.net/event/dominoes-18/
LOCATION:Club House
END:VEVENT
BEGIN:VEVENT
DTSTART;TZID=America/New_York:20250911T093000
DTEND;TZID=America/New_York:20250911T110000
DTSTAMP:20260421T120216
CREATED:20250612T134912Z
LAST-MODIFIED:20250701T175641Z
UID:3700-1757583000-1757588400@westshorevillage.net
SUMMARY:Shuffleboard
DESCRIPTION:
URL:https://westshorevillage.net/event/shuffleboard-26/
END:VEVENT
BEGIN:VEVENT
DTSTART;TZID=America/New_York:20250911T110000
DTEND;TZID=America/New_York:20250911T120000
DTSTAMP:20260421T120216
CREATED:20250612T133738Z
LAST-MODIFIED:20250819T133930Z
UID:3795-1757588400-1757592000@westshorevillage.net
SUMMARY:Water Aerobics
DESCRIPTION:Bring a noodle with you to the pool.
URL:https://westshorevillage.net/event/water-aerobics-28/
LOCATION:Pool
END:VEVENT
BEGIN:VEVENT
DTSTART;TZID=America/New_York:20250911T190000
DTEND;TZID=America/New_York:20250911T210000
DTSTAMP:20260421T120216
CREATED:20250323T231408Z
LAST-MODIFIED:20250701T180201Z
UID:3713-1757617200-1757624400@westshorevillage.net
SUMMARY:Poker & Billiard Night
DESCRIPTION:
URL:https://westshorevillage.net/event/poker-billiard-night-21/
END:VEVENT
BEGIN:VEVENT
DTSTART;TZID=America/New_York:20250912T090000
DTEND;TZID=America/New_York:20250912T110000
DTSTAMP:20260421T120216
CREATED:20250701T180503Z
LAST-MODIFIED:20250701T180734Z
UID:3725-1757667600-1757674800@westshorevillage.net
SUMMARY:Tennis
DESCRIPTION:
URL:https://westshorevillage.net/event/tennis-18/
LOCATION:Tennis Court
END:VEVENT
BEGIN:VEVENT
DTSTART;TZID=America/New_York:20250913T080000
DTEND;TZID=America/New_York:20250913T090000
DTSTAMP:20260421T120216
CREATED:20250701T174721Z
LAST-MODIFIED:20250701T181234Z
UID:3737-1757750400-1757754000@westshorevillage.net
SUMMARY:Pickleball
DESCRIPTION:
URL:https://westshorevillage.net/event/pickleball-36/
LOCATION:Pickleball Court
END:VEVENT
BEGIN:VEVENT
DTSTART;TZID=America/New_York:20250915T090000
DTEND;TZID=America/New_York:20250915T090000
DTSTAMP:20260421T120216
CREATED:20250701T174721Z
LAST-MODIFIED:20250701T175037Z
UID:3687-1757926800-1757926800@westshorevillage.net
SUMMARY:Pickleball
DESCRIPTION:
URL:https://westshorevillage.net/event/pickleball-24/
LOCATION:Pickleball Court
END:VEVENT
BEGIN:VEVENT
DTSTART;TZID=America/New_York:20250915T110000
DTEND;TZID=America/New_York:20250915T120000
DTSTAMP:20260421T120216
CREATED:20250612T133738Z
LAST-MODIFIED:20250701T175259Z
UID:3692-1757934000-1757937600@westshorevillage.net
SUMMARY:Water Aerobics
DESCRIPTION:
URL:https://westshorevillage.net/event/water-aerobics-24/
LOCATION:Pool
END:VEVENT
BEGIN:VEVENT
DTSTART;TZID=America/New_York:20250917T190000
DTEND;TZID=America/New_York:20250917T200000
DTSTAMP:20260421T120216
CREATED:20250612T134522Z
LAST-MODIFIED:20250701T175505Z
UID:3697-1758135600-1758139200@westshorevillage.net
SUMMARY:Dominoes
DESCRIPTION:
URL:https://westshorevillage.net/event/dominoes-19/
LOCATION:Club House
END:VEVENT
BEGIN:VEVENT
DTSTART;TZID=America/New_York:20250918T093000
DTEND;TZID=America/New_York:20250918T110000
DTSTAMP:20260421T120216
CREATED:20250612T134912Z
LAST-MODIFIED:20250701T175659Z
UID:3701-1758187800-1758193200@westshorevillage.net
SUMMARY:Shuffleboard
DESCRIPTION:
URL:https://westshorevillage.net/event/shuffleboard-27/
END:VEVENT
BEGIN:VEVENT
DTSTART;TZID=America/New_York:20250918T110000
DTEND;TZID=America/New_York:20250918T120000
DTSTAMP:20260421T120216
CREATED:20250612T133738Z
LAST-MODIFIED:20250819T133955Z
UID:3796-1758193200-1758196800@westshorevillage.net
SUMMARY:Water Aerobics
DESCRIPTION:Bring a noodle with you to the pool.
URL:https://westshorevillage.net/event/water-aerobics-29/
LOCATION:Pool
END:VEVENT
BEGIN:VEVENT
DTSTART;TZID=America/New_York:20250918T183000
DTEND;TZID=America/New_York:20250918T183000
DTSTAMP:20260421T120216
CREATED:20250903T215035Z
LAST-MODIFIED:20250903T215038Z
UID:3812-1758220200-1758220200@westshorevillage.net
SUMMARY:Board of Directors
DESCRIPTION:
URL:https://westshorevillage.net/event/board-of-directors-3/
LOCATION:Club House
END:VEVENT
BEGIN:VEVENT
DTSTART;TZID=America/New_York:20250919T090000
DTEND;TZID=America/New_York:20250919T110000
DTSTAMP:20260421T120216
CREATED:20250701T180503Z
LAST-MODIFIED:20250701T180757Z
UID:3726-1758272400-1758279600@westshorevillage.net
SUMMARY:Tennis
DESCRIPTION:
URL:https://westshorevillage.net/event/tennis-19/
LOCATION:Tennis Court
END:VEVENT
BEGIN:VEVENT
DTSTART;VALUE=DATE:20250920
DTEND;VALUE=DATE:20250922
DTSTAMP:20260421T120216
CREATED:20250919T233349Z
LAST-MODIFIED:20250919T233349Z
UID:3933-1758330000-1758416399@westshorevillage.net
SUMMARY:Private Event in Library
DESCRIPTION:Contact Linda Delaney with questions.
URL:https://westshorevillage.net/event/private-event-in-library/
END:VEVENT
BEGIN:VEVENT
DTSTART;TZID=America/New_York:20250920T080000
DTEND;TZID=America/New_York:20250920T090000
DTSTAMP:20260421T120216
CREATED:20250701T174721Z
LAST-MODIFIED:20250701T181249Z
UID:3738-1758355200-1758358800@westshorevillage.net
SUMMARY:Pickleball
DESCRIPTION:
URL:https://westshorevillage.net/event/pickleball-37/
LOCATION:Pickleball Court
END:VEVENT
BEGIN:VEVENT
DTSTART;TZID=America/New_York:20250922T090000
DTEND;TZID=America/New_York:20250922T090000
DTSTAMP:20260421T120216
CREATED:20250701T174721Z
LAST-MODIFIED:20250701T175054Z
UID:3688-1758531600-1758531600@westshorevillage.net
SUMMARY:Pickleball
DESCRIPTION:
URL:https://westshorevillage.net/event/pickleball-25/
LOCATION:Pickleball Court
END:VEVENT
BEGIN:VEVENT
DTSTART;TZID=America/New_York:20250922T110000
DTEND;TZID=America/New_York:20250922T120000
DTSTAMP:20260421T120216
CREATED:20250612T133738Z
LAST-MODIFIED:20250701T175316Z
UID:3693-1758538800-1758542400@westshorevillage.net
SUMMARY:Water Aerobics
DESCRIPTION:
URL:https://westshorevillage.net/event/water-aerobics-25/
LOCATION:Pool
END:VEVENT
BEGIN:VEVENT
DTSTART;TZID=America/New_York:20250924T190000
DTEND;TZID=America/New_York:20250924T200000
DTSTAMP:20260421T120216
CREATED:20250612T134522Z
LAST-MODIFIED:20250701T175522Z
UID:3698-1758740400-1758744000@westshorevillage.net
SUMMARY:Dominoes
DESCRIPTION:
URL:https://westshorevillage.net/event/dominoes-20/
LOCATION:Club House
END:VEVENT
BEGIN:VEVENT
DTSTART;TZID=America/New_York:20250925T093000
DTEND;TZID=America/New_York:20250925T110000
DTSTAMP:20260421T120216
CREATED:20250612T134912Z
LAST-MODIFIED:20250701T175722Z
UID:3702-1758792600-1758798000@westshorevillage.net
SUMMARY:Shuffleboard
DESCRIPTION:
URL:https://westshorevillage.net/event/shuffleboard-32/
END:VEVENT
BEGIN:VEVENT
DTSTART;TZID=America/New_York:20250925T110000
DTEND;TZID=America/New_York:20250925T120000
DTSTAMP:20260421T120216
CREATED:20250612T133738Z
LAST-MODIFIED:20250819T134015Z
UID:3797-1758798000-1758801600@westshorevillage.net
SUMMARY:Water Aerobics
DESCRIPTION:Bring a noodle with you to the pool.
URL:https://westshorevillage.net/event/water-aerobics-30/
LOCATION:Pool
END:VEVENT
BEGIN:VEVENT
DTSTART;TZID=America/New_York:20250925T190000
DTEND;TZID=America/New_York:20250925T210000
DTSTAMP:20260421T120216
CREATED:20250323T231408Z
LAST-MODIFIED:20250701T180234Z
UID:3715-1758826800-1758834000@westshorevillage.net
SUMMARY:Poker & Billiard Night
DESCRIPTION:
URL:https://westshorevillage.net/event/poker-billiard-night-23/
END:VEVENT
BEGIN:VEVENT
DTSTART;TZID=America/New_York:20250926T090000
DTEND;TZID=America/New_York:20250926T110000
DTSTAMP:20260421T120216
CREATED:20250701T180503Z
LAST-MODIFIED:20250701T180813Z
UID:3727-1758877200-1758884400@westshorevillage.net
SUMMARY:Tennis
DESCRIPTION:
URL:https://westshorevillage.net/event/tennis-20/
LOCATION:Tennis Court
END:VEVENT
BEGIN:VEVENT
DTSTART;TZID=America/New_York:20250927T080000
DTEND;TZID=America/New_York:20250927T090000
DTSTAMP:20260421T120216
CREATED:20250701T174721Z
LAST-MODIFIED:20250701T181305Z
UID:3739-1758960000-1758963600@westshorevillage.net
SUMMARY:Pickleball
DESCRIPTION:
URL:https://westshorevillage.net/event/pickleball-38/
LOCATION:Pickleball Court
END:VEVENT
BEGIN:VEVENT
DTSTART;TZID=America/New_York:20250927T150000
DTEND;TZID=America/New_York:20250927T210000
DTSTAMP:20260421T120216
CREATED:20250827T200038Z
LAST-MODIFIED:20250926T171233Z
UID:3805-1758985200-1759006800@westshorevillage.net
SUMMARY:PRIVATE EVENT
DESCRIPTION:
URL:https://westshorevillage.net/event/private-event-24/
LOCATION:Club House
ORGANIZER;CN="Annie Roberson":MAILTO:3239-A V1 M.Kelemen
END:VEVENT
BEGIN:VEVENT
DTSTART;TZID=America/New_York:20250929T090000
DTEND;TZID=America/New_York:20250929T090000
DTSTAMP:20260421T120216
CREATED:20250701T174721Z
LAST-MODIFIED:20250701T175109Z
UID:3689-1759136400-1759136400@westshorevillage.net
SUMMARY:Pickleball
DESCRIPTION:
URL:https://westshorevillage.net/event/pickleball-26/
LOCATION:Pickleball Court
END:VEVENT
BEGIN:VEVENT
DTSTART;TZID=America/New_York:20250929T110000
DTEND;TZID=America/New_York:20250929T120000
DTSTAMP:20260421T120216
CREATED:20250612T133738Z
LAST-MODIFIED:20250701T175332Z
UID:3694-1759143600-1759147200@westshorevillage.net
SUMMARY:Water Aerobics
DESCRIPTION:
URL:https://westshorevillage.net/event/water-aerobics-26/
LOCATION:Pool
END:VEVENT
BEGIN:VEVENT
DTSTART;TZID=America/New_York:20251001T190000
DTEND;TZID=America/New_York:20251001T200000
DTSTAMP:20260421T120216
CREATED:20250612T134522Z
LAST-MODIFIED:20250909T140517Z
UID:3843-1759345200-1759348800@westshorevillage.net
SUMMARY:Dominoes
DESCRIPTION:
URL:https://westshorevillage.net/event/dominoes-9/
LOCATION:Club House
END:VEVENT
BEGIN:VEVENT
DTSTART;TZID=America/New_York:20251002T093000
DTEND;TZID=America/New_York:20251002T110000
DTSTAMP:20260421T120216
CREATED:20250612T134912Z
LAST-MODIFIED:20250909T141040Z
UID:3857-1759397400-1759402800@westshorevillage.net
SUMMARY:Shuffleboard
DESCRIPTION:
URL:https://westshorevillage.net/event/shuffleboard-33/
END:VEVENT
END:VCALENDAR