BEGIN:VCALENDAR
VERSION:2.0
PRODID:-//West Shore Village Boca Bay - ECPv6.15.20//NONSGML v1.0//EN
CALSCALE:GREGORIAN
METHOD:PUBLISH
X-WR-CALNAME:West Shore Village Boca Bay
X-ORIGINAL-URL:https://westshorevillage.net
X-WR-CALDESC:Events for West Shore Village Boca Bay
REFRESH-INTERVAL;VALUE=DURATION:PT1H
X-Robots-Tag:noindex
X-PUBLISHED-TTL:PT1H
BEGIN:VTIMEZONE
TZID:America/New_York
BEGIN:DAYLIGHT
TZOFFSETFROM:-0500
TZOFFSETTO:-0400
TZNAME:EDT
DTSTART:20240310T070000
END:DAYLIGHT
BEGIN:STANDARD
TZOFFSETFROM:-0400
TZOFFSETTO:-0500
TZNAME:EST
DTSTART:20241103T060000
END:STANDARD
BEGIN:DAYLIGHT
TZOFFSETFROM:-0500
TZOFFSETTO:-0400
TZNAME:EDT
DTSTART:20250309T070000
END:DAYLIGHT
BEGIN:STANDARD
TZOFFSETFROM:-0400
TZOFFSETTO:-0500
TZNAME:EST
DTSTART:20251102T060000
END:STANDARD
BEGIN:DAYLIGHT
TZOFFSETFROM:-0500
TZOFFSETTO:-0400
TZNAME:EDT
DTSTART:20260308T070000
END:DAYLIGHT
BEGIN:STANDARD
TZOFFSETFROM:-0400
TZOFFSETTO:-0500
TZNAME:EST
DTSTART:20261101T060000
END:STANDARD
END:VTIMEZONE
BEGIN:VEVENT
DTSTART;TZID=America/New_York:20250712T080000
DTEND;TZID=America/New_York:20250712T090000
DTSTAMP:20260420T001146
CREATED:20250701T174721Z
LAST-MODIFIED:20250701T180938Z
UID:3728-1752307200-1752310800@westshorevillage.net
SUMMARY:Pickleball
DESCRIPTION:
URL:https://westshorevillage.net/event/pickleball-27/
LOCATION:Pickleball Court
END:VEVENT
BEGIN:VEVENT
DTSTART;TZID=America/New_York:20250714T090000
DTEND;TZID=America/New_York:20250714T090000
DTSTAMP:20260420T001146
CREATED:20250701T174721Z
LAST-MODIFIED:20250701T174759Z
UID:3678-1752483600-1752483600@westshorevillage.net
SUMMARY:Pickleball
DESCRIPTION:
URL:https://westshorevillage.net/event/pickleball-15/
LOCATION:Pickleball Court
END:VEVENT
BEGIN:VEVENT
DTSTART;TZID=America/New_York:20250714T110000
DTEND;TZID=America/New_York:20250714T120000
DTSTAMP:20260420T001146
CREATED:20250612T133738Z
LAST-MODIFIED:20250612T133810Z
UID:3640-1752490800-1752494400@westshorevillage.net
SUMMARY:Water Aerobics
DESCRIPTION:
URL:https://westshorevillage.net/event/water-aerobics-16/
LOCATION:Pool
END:VEVENT
BEGIN:VEVENT
DTSTART;TZID=America/New_York:20250716T190000
DTEND;TZID=America/New_York:20250716T200000
DTSTAMP:20260420T001146
CREATED:20250612T134522Z
LAST-MODIFIED:20250612T134548Z
UID:3651-1752692400-1752696000@westshorevillage.net
SUMMARY:Dominoes
DESCRIPTION:
URL:https://westshorevillage.net/event/dominoes-11/
LOCATION:Club House
END:VEVENT
BEGIN:VEVENT
DTSTART;TZID=America/New_York:20250717T093000
DTEND;TZID=America/New_York:20250717T110000
DTSTAMP:20260420T001146
CREATED:20250407T004838Z
LAST-MODIFIED:20250407T010316Z
UID:3560-1752744600-1752750000@westshorevillage.net
SUMMARY:Shuffleboard
DESCRIPTION:
URL:https://westshorevillage.net/event/shuffleboard-13/
END:VEVENT
BEGIN:VEVENT
DTSTART;TZID=America/New_York:20250717T183000
DTEND;TZID=America/New_York:20250717T183000
DTSTAMP:20260420T001146
CREATED:20250323T232905Z
LAST-MODIFIED:20250323T233016Z
UID:3524-1752777000-1752777000@westshorevillage.net
SUMMARY:Board of Directors Meeting
DESCRIPTION:
URL:https://westshorevillage.net/event/board-of-directors-meeting-9/
LOCATION:Club House
END:VEVENT
BEGIN:VEVENT
DTSTART;TZID=America/New_York:20250717T190000
DTEND;TZID=America/New_York:20250717T210000
DTSTAMP:20260420T001146
CREATED:20250323T231408Z
LAST-MODIFIED:20250701T175938Z
UID:3705-1752778800-1752786000@westshorevillage.net
SUMMARY:Poker & Billiard Night
DESCRIPTION:
URL:https://westshorevillage.net/event/poker-billiard-night-13/
END:VEVENT
BEGIN:VEVENT
DTSTART;TZID=America/New_York:20250718T090000
DTEND;TZID=America/New_York:20250718T110000
DTSTAMP:20260420T001146
CREATED:20250701T180503Z
LAST-MODIFIED:20250701T180518Z
UID:3717-1752829200-1752836400@westshorevillage.net
SUMMARY:Tennis
DESCRIPTION:
URL:https://westshorevillage.net/event/tennis-10/
LOCATION:Tennis Court
END:VEVENT
BEGIN:VEVENT
DTSTART;TZID=America/New_York:20250719T080000
DTEND;TZID=America/New_York:20250719T090000
DTSTAMP:20260420T001146
CREATED:20250701T174721Z
LAST-MODIFIED:20250701T181014Z
UID:3729-1752912000-1752915600@westshorevillage.net
SUMMARY:Pickleball
DESCRIPTION:
URL:https://westshorevillage.net/event/pickleball-28/
LOCATION:Pickleball Court
END:VEVENT
BEGIN:VEVENT
DTSTART;TZID=America/New_York:20250721T090000
DTEND;TZID=America/New_York:20250721T090000
DTSTAMP:20260420T001146
CREATED:20250323T233145Z
LAST-MODIFIED:20250401T194255Z
UID:3532-1753088400-1753088400@westshorevillage.net
SUMMARY:Monday Workshop
DESCRIPTION:
URL:https://westshorevillage.net/event/monday-workshop-11/
LOCATION:Club House
END:VEVENT
BEGIN:VEVENT
DTSTART;TZID=America/New_York:20250721T090000
DTEND;TZID=America/New_York:20250721T090000
DTSTAMP:20260420T001146
CREATED:20250701T174721Z
LAST-MODIFIED:20250701T174816Z
UID:3679-1753088400-1753088400@westshorevillage.net
SUMMARY:Pickleball
DESCRIPTION:
URL:https://westshorevillage.net/event/pickleball-16/
LOCATION:Pickleball Court
END:VEVENT
BEGIN:VEVENT
DTSTART;TZID=America/New_York:20250721T110000
DTEND;TZID=America/New_York:20250721T120000
DTSTAMP:20260420T001146
CREATED:20250612T133738Z
LAST-MODIFIED:20250612T133829Z
UID:3641-1753095600-1753099200@westshorevillage.net
SUMMARY:Water Aerobics
DESCRIPTION:
URL:https://westshorevillage.net/event/water-aerobics-17/
LOCATION:Pool
END:VEVENT
BEGIN:VEVENT
DTSTART;TZID=America/New_York:20250723T190000
DTEND;TZID=America/New_York:20250723T200000
DTSTAMP:20260420T001146
CREATED:20250612T134522Z
LAST-MODIFIED:20250612T134610Z
UID:3652-1753297200-1753300800@westshorevillage.net
SUMMARY:Dominoes
DESCRIPTION:
URL:https://westshorevillage.net/event/dominoes-12/
LOCATION:Club House
END:VEVENT
BEGIN:VEVENT
DTSTART;TZID=America/New_York:20250724T093000
DTEND;TZID=America/New_York:20250724T110000
DTSTAMP:20260420T001146
CREATED:20250407T004838Z
LAST-MODIFIED:20250407T010345Z
UID:3562-1753349400-1753354800@westshorevillage.net
SUMMARY:Shuffleboard
DESCRIPTION:
URL:https://westshorevillage.net/event/shuffleboard-15/
END:VEVENT
BEGIN:VEVENT
DTSTART;TZID=America/New_York:20250724T190000
DTEND;TZID=America/New_York:20250724T210000
DTSTAMP:20260420T001146
CREATED:20250323T231408Z
LAST-MODIFIED:20250701T175955Z
UID:3706-1753383600-1753390800@westshorevillage.net
SUMMARY:Poker & Billiard Night
DESCRIPTION:
URL:https://westshorevillage.net/event/poker-billiard-night-14/
END:VEVENT
BEGIN:VEVENT
DTSTART;TZID=America/New_York:20250725T090000
DTEND;TZID=America/New_York:20250725T110000
DTSTAMP:20260420T001146
CREATED:20250701T180503Z
LAST-MODIFIED:20250701T180533Z
UID:3718-1753434000-1753441200@westshorevillage.net
SUMMARY:Tennis
DESCRIPTION:
URL:https://westshorevillage.net/event/tennis-11/
LOCATION:Tennis Court
END:VEVENT
BEGIN:VEVENT
DTSTART;TZID=America/New_York:20250726T080000
DTEND;TZID=America/New_York:20250726T090000
DTSTAMP:20260420T001146
CREATED:20250701T174721Z
LAST-MODIFIED:20250701T181028Z
UID:3730-1753516800-1753520400@westshorevillage.net
SUMMARY:Pickleball
DESCRIPTION:
URL:https://westshorevillage.net/event/pickleball-29/
LOCATION:Pickleball Court
END:VEVENT
BEGIN:VEVENT
DTSTART;TZID=America/New_York:20250728T090000
DTEND;TZID=America/New_York:20250728T090000
DTSTAMP:20260420T001146
CREATED:20250701T174721Z
LAST-MODIFIED:20250701T174832Z
UID:3680-1753693200-1753693200@westshorevillage.net
SUMMARY:Pickleball
DESCRIPTION:
URL:https://westshorevillage.net/event/pickleball-17/
LOCATION:Pickleball Court
END:VEVENT
BEGIN:VEVENT
DTSTART;TZID=America/New_York:20250728T110000
DTEND;TZID=America/New_York:20250728T120000
DTSTAMP:20260420T001146
CREATED:20250612T133738Z
LAST-MODIFIED:20250612T133849Z
UID:3642-1753700400-1753704000@westshorevillage.net
SUMMARY:Water Aerobics
DESCRIPTION:
URL:https://westshorevillage.net/event/water-aerobics-18/
LOCATION:Pool
END:VEVENT
BEGIN:VEVENT
DTSTART;TZID=America/New_York:20250730T160000
DTEND;TZID=America/New_York:20250730T170000
DTSTAMP:20260420T001146
CREATED:20250729T214501Z
LAST-MODIFIED:20250729T214653Z
UID:3783-1753891200-1753894800@westshorevillage.net
SUMMARY:Board of Directors Special Meeting
DESCRIPTION:WEST SHORE VILLAGE MASTER CORPORATION INC. \nBOARD OF DIRECTORS SPECIAL MEETING \nJULY 30\, 2025 at 4:00PM \nPLACE: West Shore Village Clubhouse \n3250 40th Street South\, St. Pete. \nDial in by phone \n+1 612-389-2094\,\,270636788# \nJoin via Microsoft teams (link unavailable via this calendar notification)
URL:https://westshorevillage.net/event/board-of-directors-special-meeting/
LOCATION:Club House
END:VEVENT
BEGIN:VEVENT
DTSTART;TZID=America/New_York:20250730T190000
DTEND;TZID=America/New_York:20250730T200000
DTSTAMP:20260420T001146
CREATED:20250612T134522Z
LAST-MODIFIED:20250612T134630Z
UID:3653-1753902000-1753905600@westshorevillage.net
SUMMARY:Dominoes
DESCRIPTION:
URL:https://westshorevillage.net/event/dominoes-13/
LOCATION:Club House
END:VEVENT
BEGIN:VEVENT
DTSTART;TZID=America/New_York:20250731T093000
DTEND;TZID=America/New_York:20250731T110000
DTSTAMP:20260420T001146
CREATED:20250407T004838Z
LAST-MODIFIED:20250407T005735Z
UID:3563-1753954200-1753959600@westshorevillage.net
SUMMARY:Shuffleboard
DESCRIPTION:
URL:https://westshorevillage.net/event/shuffleboard-16/
END:VEVENT
BEGIN:VEVENT
DTSTART;TZID=America/New_York:20250731T190000
DTEND;TZID=America/New_York:20250731T210000
DTSTAMP:20260420T001146
CREATED:20250323T231408Z
LAST-MODIFIED:20250701T180010Z
UID:3707-1753988400-1753995600@westshorevillage.net
SUMMARY:Poker & Billiard Night
DESCRIPTION:
URL:https://westshorevillage.net/event/poker-billiard-night-15/
END:VEVENT
BEGIN:VEVENT
DTSTART;TZID=America/New_York:20250801T090000
DTEND;TZID=America/New_York:20250801T110000
DTSTAMP:20260420T001146
CREATED:20250701T180503Z
LAST-MODIFIED:20250701T180553Z
UID:3719-1754038800-1754046000@westshorevillage.net
SUMMARY:Tennis
DESCRIPTION:
URL:https://westshorevillage.net/event/tennis-12/
LOCATION:Tennis Court
END:VEVENT
BEGIN:VEVENT
DTSTART;TZID=America/New_York:20250802T080000
DTEND;TZID=America/New_York:20250802T090000
DTSTAMP:20260420T001146
CREATED:20250701T174721Z
LAST-MODIFIED:20250701T181335Z
UID:3731-1754121600-1754125200@westshorevillage.net
SUMMARY:Pickleball
DESCRIPTION:
URL:https://westshorevillage.net/event/pickleball-30/
LOCATION:Pickleball Court
END:VEVENT
BEGIN:VEVENT
DTSTART;TZID=America/New_York:20250804T090000
DTEND;TZID=America/New_York:20250804T090000
DTSTAMP:20260420T001146
CREATED:20250701T174721Z
LAST-MODIFIED:20250701T174850Z
UID:3681-1754298000-1754298000@westshorevillage.net
SUMMARY:Pickleball
DESCRIPTION:
URL:https://westshorevillage.net/event/pickleball-18/
LOCATION:Pickleball Court
END:VEVENT
BEGIN:VEVENT
DTSTART;TZID=America/New_York:20250804T110000
DTEND;TZID=America/New_York:20250804T120000
DTSTAMP:20260420T001146
CREATED:20250612T133738Z
LAST-MODIFIED:20250612T133909Z
UID:3643-1754305200-1754308800@westshorevillage.net
SUMMARY:Water Aerobics
DESCRIPTION:
URL:https://westshorevillage.net/event/water-aerobics-19/
LOCATION:Pool
END:VEVENT
BEGIN:VEVENT
DTSTART;TZID=America/New_York:20250806T190000
DTEND;TZID=America/New_York:20250806T200000
DTSTAMP:20260420T001146
CREATED:20250612T134522Z
LAST-MODIFIED:20250612T134650Z
UID:3654-1754506800-1754510400@westshorevillage.net
SUMMARY:Dominoes
DESCRIPTION:
URL:https://westshorevillage.net/event/dominoes-14/
LOCATION:Club House
END:VEVENT
BEGIN:VEVENT
DTSTART;TZID=America/New_York:20250807T093000
DTEND;TZID=America/New_York:20250807T110000
DTSTAMP:20260420T001146
CREATED:20250612T134912Z
LAST-MODIFIED:20250612T135021Z
UID:3661-1754559000-1754564400@westshorevillage.net
SUMMARY:Shuffleboard
DESCRIPTION:
URL:https://westshorevillage.net/event/shuffleboard-28/
END:VEVENT
BEGIN:VEVENT
DTSTART;TZID=America/New_York:20250807T190000
DTEND;TZID=America/New_York:20250807T210000
DTSTAMP:20260420T001146
CREATED:20250323T231408Z
LAST-MODIFIED:20250701T180027Z
UID:3708-1754593200-1754600400@westshorevillage.net
SUMMARY:Poker & Billiard Night
DESCRIPTION:
URL:https://westshorevillage.net/event/poker-billiard-night-16/
END:VEVENT
END:VCALENDAR