BEGIN:VCALENDAR
VERSION:2.0
PRODID:-//West Shore Village Boca Bay - ECPv6.15.20//NONSGML v1.0//EN
CALSCALE:GREGORIAN
METHOD:PUBLISH
X-ORIGINAL-URL:https://westshorevillage.net
X-WR-CALDESC:Events for West Shore Village Boca Bay
REFRESH-INTERVAL;VALUE=DURATION:PT1H
X-Robots-Tag:noindex
X-PUBLISHED-TTL:PT1H
BEGIN:VTIMEZONE
TZID:America/New_York
BEGIN:DAYLIGHT
TZOFFSETFROM:-0500
TZOFFSETTO:-0400
TZNAME:EDT
DTSTART:20250309T070000
END:DAYLIGHT
BEGIN:STANDARD
TZOFFSETFROM:-0400
TZOFFSETTO:-0500
TZNAME:EST
DTSTART:20251102T060000
END:STANDARD
BEGIN:DAYLIGHT
TZOFFSETFROM:-0500
TZOFFSETTO:-0400
TZNAME:EDT
DTSTART:20260308T070000
END:DAYLIGHT
BEGIN:STANDARD
TZOFFSETFROM:-0400
TZOFFSETTO:-0500
TZNAME:EST
DTSTART:20261101T060000
END:STANDARD
BEGIN:DAYLIGHT
TZOFFSETFROM:-0500
TZOFFSETTO:-0400
TZNAME:EDT
DTSTART:20270314T070000
END:DAYLIGHT
BEGIN:STANDARD
TZOFFSETFROM:-0400
TZOFFSETTO:-0500
TZNAME:EST
DTSTART:20271107T060000
END:STANDARD
END:VTIMEZONE
BEGIN:VEVENT
DTSTART;TZID=America/New_York:20260304T180000
DTEND;TZID=America/New_York:20260304T190000
DTSTAMP:20260420T152355
CREATED:20250612T134522Z
LAST-MODIFIED:20251218T194018Z
UID:4118-1772647200-1772650800@westshorevillage.net
SUMMARY:Dominoes
DESCRIPTION:
URL:https://westshorevillage.net/event/dominoes-41/
LOCATION:Club House
END:VEVENT
BEGIN:VEVENT
DTSTART;TZID=America/New_York:20260305T093000
DTEND;TZID=America/New_York:20260305T110000
DTSTAMP:20260420T152355
CREATED:20250612T134912Z
LAST-MODIFIED:20251218T194541Z
UID:4130-1772703000-1772708400@westshorevillage.net
SUMMARY:Shuffleboard
DESCRIPTION:
URL:https://westshorevillage.net/event/shuffleboard-55/
END:VEVENT
BEGIN:VEVENT
DTSTART;TZID=America/New_York:20260305T130000
DTEND;TZID=America/New_York:20260305T130000
DTSTAMP:20260420T152355
CREATED:20260109T000418Z
LAST-MODIFIED:20260109T000615Z
UID:4199-1772715600-1772715600@westshorevillage.net
SUMMARY:Water Aerobics
DESCRIPTION:
URL:https://westshorevillage.net/event/water-aerobics-66/
LOCATION:Pool
END:VEVENT
BEGIN:VEVENT
DTSTART;TZID=America/New_York:20260305T190000
DTEND;TZID=America/New_York:20260305T210000
DTSTAMP:20260420T152355
CREATED:20250323T231408Z
LAST-MODIFIED:20251218T222529Z
UID:4143-1772737200-1772744400@westshorevillage.net
SUMMARY:Poker & Billiard Night
DESCRIPTION:
URL:https://westshorevillage.net/event/poker-billiard-night-43/
END:VEVENT
BEGIN:VEVENT
DTSTART;TZID=America/New_York:20260306T090000
DTEND;TZID=America/New_York:20260306T110000
DTSTAMP:20260420T152355
CREATED:20250701T180503Z
LAST-MODIFIED:20251218T192608Z
UID:4093-1772787600-1772794800@westshorevillage.net
SUMMARY:Tennis
DESCRIPTION:
URL:https://westshorevillage.net/event/tennis-43/
LOCATION:Tennis Court
END:VEVENT
BEGIN:VEVENT
DTSTART;TZID=America/New_York:20260306T181500
DTEND;TZID=America/New_York:20260306T203000
DTSTAMP:20260420T152355
CREATED:20250625T184358Z
LAST-MODIFIED:20260204T172703Z
UID:3779-1772820900-1772829000@westshorevillage.net
SUMMARY:First Friday Social Activity: Jeopardy
DESCRIPTION:
URL:https://westshorevillage.net/event/first-friday-social-activity-tbd-2/
LOCATION:Club House
END:VEVENT
BEGIN:VEVENT
DTSTART;TZID=America/New_York:20260307T090000
DTEND;TZID=America/New_York:20260307T090000
DTSTAMP:20260420T152355
CREATED:20250701T174721Z
LAST-MODIFIED:20251218T223254Z
UID:4156-1772874000-1772874000@westshorevillage.net
SUMMARY:Pickleball
DESCRIPTION:
URL:https://westshorevillage.net/event/pickleball-86/
LOCATION:Pickleball Court
END:VEVENT
BEGIN:VEVENT
DTSTART;TZID=America/New_York:20260309T090000
DTEND;TZID=America/New_York:20260309T090000
DTSTAMP:20260420T152355
CREATED:20250701T174721Z
LAST-MODIFIED:20251218T193120Z
UID:4105-1773046800-1773046800@westshorevillage.net
SUMMARY:Pickleball
DESCRIPTION:
URL:https://westshorevillage.net/event/pickleball-72/
LOCATION:Pickleball Court
END:VEVENT
BEGIN:VEVENT
DTSTART;TZID=America/New_York:20260309T190000
DTEND;TZID=America/New_York:20260309T210000
DTSTAMP:20260420T152355
CREATED:20251105T203027Z
LAST-MODIFIED:20260202T204338Z
UID:4243-1773082800-1773090000@westshorevillage.net
SUMMARY:Euchre
DESCRIPTION:
URL:https://westshorevillage.net/event/euchre-24/
LOCATION:Club House
END:VEVENT
BEGIN:VEVENT
DTSTART;TZID=America/New_York:20260310T100000
DTEND;TZID=America/New_York:20260310T110000
DTSTAMP:20260420T152355
CREATED:20251103T213011Z
LAST-MODIFIED:20251218T192119Z
UID:4080-1773136800-1773140400@westshorevillage.net
SUMMARY:Line Dancing
DESCRIPTION:
URL:https://westshorevillage.net/event/line-dancing-20/
LOCATION:Club House
END:VEVENT
BEGIN:VEVENT
DTSTART;TZID=America/New_York:20260310T180000
DTEND;TZID=America/New_York:20260310T180000
DTSTAMP:20260420T152355
CREATED:20251218T191017Z
LAST-MODIFIED:20251218T191339Z
UID:4069-1773165600-1773165600@westshorevillage.net
SUMMARY:Mahjong
DESCRIPTION:
URL:https://westshorevillage.net/event/mahjong-13/
LOCATION:Club House
END:VEVENT
BEGIN:VEVENT
DTSTART;TZID=America/New_York:20260311T180000
DTEND;TZID=America/New_York:20260311T190000
DTSTAMP:20260420T152355
CREATED:20250612T134522Z
LAST-MODIFIED:20251218T194035Z
UID:4119-1773252000-1773255600@westshorevillage.net
SUMMARY:Dominoes
DESCRIPTION:
URL:https://westshorevillage.net/event/dominoes-42/
LOCATION:Club House
END:VEVENT
BEGIN:VEVENT
DTSTART;TZID=America/New_York:20260312T093000
DTEND;TZID=America/New_York:20260312T110000
DTSTAMP:20260420T152355
CREATED:20250612T134912Z
LAST-MODIFIED:20251218T194558Z
UID:4131-1773307800-1773313200@westshorevillage.net
SUMMARY:Shuffleboard
DESCRIPTION:
URL:https://westshorevillage.net/event/shuffleboard-56/
END:VEVENT
BEGIN:VEVENT
DTSTART;TZID=America/New_York:20260312T130000
DTEND;TZID=America/New_York:20260312T130000
DTSTAMP:20260420T152355
CREATED:20260109T000418Z
LAST-MODIFIED:20260109T000631Z
UID:4200-1773320400-1773320400@westshorevillage.net
SUMMARY:Water Aerobics
DESCRIPTION:
URL:https://westshorevillage.net/event/water-aerobics-67/
LOCATION:Pool
END:VEVENT
BEGIN:VEVENT
DTSTART;TZID=America/New_York:20260312T180000
DTEND;TZID=America/New_York:20260312T200000
DTSTAMP:20260420T152355
CREATED:20260102T142606Z
LAST-MODIFIED:20260102T143056Z
UID:4181-1773338400-1773345600@westshorevillage.net
SUMMARY:Annual General Meeting Board of Directors - Time TBD
DESCRIPTION:
URL:https://westshorevillage.net/event/annual-meeting-board-of-directors-time-tbd/
LOCATION:Club House
END:VEVENT
BEGIN:VEVENT
DTSTART;TZID=America/New_York:20260312T190000
DTEND;TZID=America/New_York:20260312T210000
DTSTAMP:20260420T152355
CREATED:20250323T231408Z
LAST-MODIFIED:20251218T222546Z
UID:4144-1773342000-1773349200@westshorevillage.net
SUMMARY:Poker & Billiard Night
DESCRIPTION:
URL:https://westshorevillage.net/event/poker-billiard-night-44/
END:VEVENT
BEGIN:VEVENT
DTSTART;TZID=America/New_York:20260313T090000
DTEND;TZID=America/New_York:20260313T110000
DTSTAMP:20260420T152355
CREATED:20250701T180503Z
LAST-MODIFIED:20251218T192627Z
UID:4094-1773392400-1773399600@westshorevillage.net
SUMMARY:Tennis
DESCRIPTION:
URL:https://westshorevillage.net/event/tennis-44/
LOCATION:Tennis Court
END:VEVENT
BEGIN:VEVENT
DTSTART;TZID=America/New_York:20260313T093000
DTEND;TZID=America/New_York:20260313T093000
DTSTAMP:20260420T152355
CREATED:20251106T201139Z
LAST-MODIFIED:20260223T163145Z
UID:4009-1773394200-1773394200@westshorevillage.net
SUMMARY:St. Patrick's Decoration Set Up
DESCRIPTION:
URL:https://westshorevillage.net/event/st-patricks-decoration-set-up/
LOCATION:Club House
END:VEVENT
BEGIN:VEVENT
DTSTART;TZID=America/New_York:20260314T090000
DTEND;TZID=America/New_York:20260314T090000
DTSTAMP:20260420T152355
CREATED:20250701T174721Z
LAST-MODIFIED:20251218T223635Z
UID:4157-1773478800-1773478800@westshorevillage.net
SUMMARY:Pickleball
DESCRIPTION:
URL:https://westshorevillage.net/event/pickleball-87/
LOCATION:Pickleball Court
END:VEVENT
BEGIN:VEVENT
DTSTART;TZID=America/New_York:20260314T173000
DTEND;TZID=America/New_York:20260314T220000
DTSTAMP:20260420T152355
CREATED:20250729T204804Z
LAST-MODIFIED:20260202T210533Z
UID:3781-1773509400-1773525600@westshorevillage.net
SUMMARY:St. Patrick's Dinner Dance
DESCRIPTION:🍀
URL:https://westshorevillage.net/event/st-patricks-celebration/
LOCATION:Club House
END:VEVENT
BEGIN:VEVENT
DTSTART;TZID=America/New_York:20260315T093000
DTEND;TZID=America/New_York:20260315T093000
DTSTAMP:20260420T152355
CREATED:20251106T201139Z
LAST-MODIFIED:20260223T222106Z
UID:4010-1773567000-1773567000@westshorevillage.net
SUMMARY:St. Patrick's Decoration Removal
DESCRIPTION:
URL:https://westshorevillage.net/event/copy-of-st-patricks-decoration-removal/
LOCATION:Club House
END:VEVENT
BEGIN:VEVENT
DTSTART;TZID=America/New_York:20260316T090000
DTEND;TZID=America/New_York:20260316T090000
DTSTAMP:20260420T152355
CREATED:20250701T174721Z
LAST-MODIFIED:20251218T193138Z
UID:4106-1773651600-1773651600@westshorevillage.net
SUMMARY:Pickleball
DESCRIPTION:
URL:https://westshorevillage.net/event/pickleball-73/
LOCATION:Pickleball Court
END:VEVENT
BEGIN:VEVENT
DTSTART;TZID=America/New_York:20260316T090000
DTEND;TZID=America/New_York:20260316T090000
DTSTAMP:20260420T152355
CREATED:20251102T211716Z
LAST-MODIFIED:20251102T212003Z
UID:3973-1773651600-1773651600@westshorevillage.net
SUMMARY:Public Workshop
DESCRIPTION:
URL:https://westshorevillage.net/event/public-workshop-8/
LOCATION:Club House
END:VEVENT
BEGIN:VEVENT
DTSTART;TZID=America/New_York:20260316T190000
DTEND;TZID=America/New_York:20260316T210000
DTSTAMP:20260420T152355
CREATED:20251105T203027Z
LAST-MODIFIED:20260202T204356Z
UID:4244-1773687600-1773694800@westshorevillage.net
SUMMARY:Euchre
DESCRIPTION:
URL:https://westshorevillage.net/event/euchre-25/
LOCATION:Club House
END:VEVENT
BEGIN:VEVENT
DTSTART;TZID=America/New_York:20260317T100000
DTEND;TZID=America/New_York:20260317T110000
DTSTAMP:20260420T152355
CREATED:20251103T213011Z
LAST-MODIFIED:20251218T192138Z
UID:4081-1773741600-1773745200@westshorevillage.net
SUMMARY:Line Dancing
DESCRIPTION:
URL:https://westshorevillage.net/event/line-dancing-21/
LOCATION:Club House
END:VEVENT
BEGIN:VEVENT
DTSTART;TZID=America/New_York:20260317T180000
DTEND;TZID=America/New_York:20260317T180000
DTSTAMP:20260420T152355
CREATED:20251218T191017Z
LAST-MODIFIED:20251218T191401Z
UID:4070-1773770400-1773770400@westshorevillage.net
SUMMARY:Mahjong
DESCRIPTION:
URL:https://westshorevillage.net/event/mahjong-14/
LOCATION:Club House
END:VEVENT
BEGIN:VEVENT
DTSTART;TZID=America/New_York:20260318T180000
DTEND;TZID=America/New_York:20260318T190000
DTSTAMP:20260420T152355
CREATED:20250612T134522Z
LAST-MODIFIED:20251218T194052Z
UID:4120-1773856800-1773860400@westshorevillage.net
SUMMARY:Dominoes
DESCRIPTION:
URL:https://westshorevillage.net/event/dominoes-43/
LOCATION:Club House
END:VEVENT
BEGIN:VEVENT
DTSTART;TZID=America/New_York:20260319T093000
DTEND;TZID=America/New_York:20260319T110000
DTSTAMP:20260420T152355
CREATED:20250612T134912Z
LAST-MODIFIED:20251218T194613Z
UID:4132-1773912600-1773918000@westshorevillage.net
SUMMARY:Shuffleboard
DESCRIPTION:
URL:https://westshorevillage.net/event/shuffleboard-57/
END:VEVENT
BEGIN:VEVENT
DTSTART;TZID=America/New_York:20260319T130000
DTEND;TZID=America/New_York:20260319T130000
DTSTAMP:20260420T152355
CREATED:20260109T000418Z
LAST-MODIFIED:20260109T000648Z
UID:4201-1773925200-1773925200@westshorevillage.net
SUMMARY:Water Aerobics
DESCRIPTION:
URL:https://westshorevillage.net/event/water-aerobics-68/
LOCATION:Pool
END:VEVENT
BEGIN:VEVENT
DTSTART;TZID=America/New_York:20260319T170000
DTEND;TZID=America/New_York:20260319T235900
DTSTAMP:20260420T152355
CREATED:20250925T141514Z
LAST-MODIFIED:20251218T223915Z
UID:3936-1773939600-1773964740@westshorevillage.net
SUMMARY:Private Event
DESCRIPTION:Decorate for Friday’s private event
URL:https://westshorevillage.net/event/private-event-27/
LOCATION:Club House
END:VEVENT
END:VCALENDAR