BEGIN:VCALENDAR
VERSION:2.0
PRODID:-//West Shore Village Boca Bay - ECPv6.15.20//NONSGML v1.0//EN
CALSCALE:GREGORIAN
METHOD:PUBLISH
X-ORIGINAL-URL:https://westshorevillage.net
X-WR-CALDESC:Events for West Shore Village Boca Bay
REFRESH-INTERVAL;VALUE=DURATION:PT1H
X-Robots-Tag:noindex
X-PUBLISHED-TTL:PT1H
BEGIN:VTIMEZONE
TZID:America/New_York
BEGIN:DAYLIGHT
TZOFFSETFROM:-0500
TZOFFSETTO:-0400
TZNAME:EDT
DTSTART:20250309T070000
END:DAYLIGHT
BEGIN:STANDARD
TZOFFSETFROM:-0400
TZOFFSETTO:-0500
TZNAME:EST
DTSTART:20251102T060000
END:STANDARD
BEGIN:DAYLIGHT
TZOFFSETFROM:-0500
TZOFFSETTO:-0400
TZNAME:EDT
DTSTART:20260308T070000
END:DAYLIGHT
BEGIN:STANDARD
TZOFFSETFROM:-0400
TZOFFSETTO:-0500
TZNAME:EST
DTSTART:20261101T060000
END:STANDARD
BEGIN:DAYLIGHT
TZOFFSETFROM:-0500
TZOFFSETTO:-0400
TZNAME:EDT
DTSTART:20270314T070000
END:DAYLIGHT
BEGIN:STANDARD
TZOFFSETFROM:-0400
TZOFFSETTO:-0500
TZNAME:EST
DTSTART:20271107T060000
END:STANDARD
BEGIN:DAYLIGHT
TZOFFSETFROM:-0500
TZOFFSETTO:-0400
TZNAME:EDT
DTSTART:20280312T070000
END:DAYLIGHT
BEGIN:STANDARD
TZOFFSETFROM:-0400
TZOFFSETTO:-0500
TZNAME:EST
DTSTART:20281105T060000
END:STANDARD
END:VTIMEZONE
BEGIN:VEVENT
DTSTART;TZID=America/New_York:20261024T180000
DTEND;TZID=America/New_York:20261024T180000
DTSTAMP:20260422T220438
CREATED:20260416T135248Z
LAST-MODIFIED:20260416T135248Z
UID:4385-1792864800-1792864800@westshorevillage.net
SUMMARY:Halloween Costume Party-Details TBD
DESCRIPTION:
URL:https://westshorevillage.net/event/halloween-costume-party-details-tbd-2/
LOCATION:Club House
END:VEVENT
BEGIN:VEVENT
DTSTART;TZID=America/New_York:20261212T180000
DTEND;TZID=America/New_York:20261212T180000
DTSTAMP:20260422T220438
CREATED:20260416T134407Z
LAST-MODIFIED:20260416T134433Z
UID:4380-1797098400-1797098400@westshorevillage.net
SUMMARY:Holiday Party - Details TBD
DESCRIPTION:
URL:https://westshorevillage.net/event/holiday-party-details-tbd/
END:VEVENT
BEGIN:VEVENT
DTSTART;TZID=America/New_York:20270116T180000
DTEND;TZID=America/New_York:20270116T180000
DTSTAMP:20260422T220438
CREATED:20260416T135140Z
LAST-MODIFIED:20260416T135140Z
UID:4384-1800122400-1800122400@westshorevillage.net
SUMMARY:Mangia! Pasta Night - Details TBD
DESCRIPTION:
URL:https://westshorevillage.net/event/mangia-pasta-night-details-tbd-2/
LOCATION:Club House
END:VEVENT
BEGIN:VEVENT
DTSTART;TZID=America/New_York:20270123T093000
DTEND;TZID=America/New_York:20270123T180000
DTSTAMP:20260422T220438
CREATED:20260416T134525Z
LAST-MODIFIED:20260416T134647Z
UID:4381-1800696600-1800727200@westshorevillage.net
SUMMARY:Pancake & Sausage Breakfast - Details TBD
DESCRIPTION:
URL:https://westshorevillage.net/event/mangia-pasta-night-details-tbd/
LOCATION:Club House
END:VEVENT
BEGIN:VEVENT
DTSTART;TZID=America/New_York:20270212T080000
DTEND;TZID=America/New_York:20270212T170000
DTSTAMP:20260422T220438
CREATED:20260416T135526Z
LAST-MODIFIED:20260416T135526Z
UID:4388-1802419200-1802451600@westshorevillage.net
SUMMARY:Tag Sale-Details TBD
DESCRIPTION:
URL:https://westshorevillage.net/event/tag-sale-details-tbd/
LOCATION:Club House
END:VEVENT
BEGIN:VEVENT
DTSTART;TZID=America/New_York:20270213T080000
DTEND;TZID=America/New_York:20270213T170000
DTSTAMP:20260422T220438
CREATED:20260416T135605Z
LAST-MODIFIED:20260416T135605Z
UID:4389-1802505600-1802538000@westshorevillage.net
SUMMARY:Tag Sale-Details TBD
DESCRIPTION:
URL:https://westshorevillage.net/event/tag-sale-details-tbd-2/
LOCATION:Club House
END:VEVENT
BEGIN:VEVENT
DTSTART;TZID=America/New_York:20270220T093000
DTEND;TZID=America/New_York:20270220T170000
DTSTAMP:20260422T220438
CREATED:20260416T135653Z
LAST-MODIFIED:20260416T135653Z
UID:4390-1803115800-1803142800@westshorevillage.net
SUMMARY:French Toast Breakfast-Details TBD
DESCRIPTION:
URL:https://westshorevillage.net/event/french-toast-breakfast-details-tbd/
LOCATION:Club House
END:VEVENT
END:VCALENDAR