BEGIN:VCALENDAR
VERSION:2.0
PRODID:-//West Shore Village Boca Bay - ECPv6.15.20//NONSGML v1.0//EN
CALSCALE:GREGORIAN
METHOD:PUBLISH
X-WR-CALNAME:West Shore Village Boca Bay
X-ORIGINAL-URL:https://westshorevillage.net
X-WR-CALDESC:Events for West Shore Village Boca Bay
REFRESH-INTERVAL;VALUE=DURATION:PT1H
X-Robots-Tag:noindex
X-PUBLISHED-TTL:PT1H
BEGIN:VTIMEZONE
TZID:America/New_York
BEGIN:DAYLIGHT
TZOFFSETFROM:-0500
TZOFFSETTO:-0400
TZNAME:EDT
DTSTART:20250309T070000
END:DAYLIGHT
BEGIN:STANDARD
TZOFFSETFROM:-0400
TZOFFSETTO:-0500
TZNAME:EST
DTSTART:20251102T060000
END:STANDARD
BEGIN:DAYLIGHT
TZOFFSETFROM:-0500
TZOFFSETTO:-0400
TZNAME:EDT
DTSTART:20260308T070000
END:DAYLIGHT
BEGIN:STANDARD
TZOFFSETFROM:-0400
TZOFFSETTO:-0500
TZNAME:EST
DTSTART:20261101T060000
END:STANDARD
BEGIN:DAYLIGHT
TZOFFSETFROM:-0500
TZOFFSETTO:-0400
TZNAME:EDT
DTSTART:20270314T070000
END:DAYLIGHT
BEGIN:STANDARD
TZOFFSETFROM:-0400
TZOFFSETTO:-0500
TZNAME:EST
DTSTART:20271107T060000
END:STANDARD
END:VTIMEZONE
BEGIN:VEVENT
DTSTART;TZID=America/New_York:20261024T180000
DTEND;TZID=America/New_York:20261024T180000
DTSTAMP:20260423T214300
CREATED:20260416T135248Z
LAST-MODIFIED:20260416T135248Z
UID:4385-1792864800-1792864800@westshorevillage.net
SUMMARY:Halloween Costume Party-Details TBD
DESCRIPTION:
URL:https://westshorevillage.net/event/halloween-costume-party-details-tbd-2/
LOCATION:Club House
END:VEVENT
BEGIN:VEVENT
DTSTART;TZID=America/New_York:20260629T110000
DTEND;TZID=America/New_York:20260629T110000
DTSTAMP:20260423T214300
CREATED:20260109T000418Z
LAST-MODIFIED:20260406T155515Z
UID:4372-1782730800-1782730800@westshorevillage.net
SUMMARY:Water Aerobics / Bring A Noodle
DESCRIPTION:
URL:https://westshorevillage.net/event/water-aerobics-bring-a-noodle-20/
LOCATION:Pool
END:VEVENT
BEGIN:VEVENT
DTSTART;TZID=America/New_York:20260625T110000
DTEND;TZID=America/New_York:20260625T110000
DTSTAMP:20260423T214300
CREATED:20260109T000418Z
LAST-MODIFIED:20260406T154748Z
UID:4357-1782385200-1782385200@westshorevillage.net
SUMMARY:Water Aerobics / Bring A Noodle
DESCRIPTION:
URL:https://westshorevillage.net/event/water-aerobics-bring-a-noodle-6/
LOCATION:Pool
END:VEVENT
BEGIN:VEVENT
DTSTART;TZID=America/New_York:20260622T110000
DTEND;TZID=America/New_York:20260622T110000
DTSTAMP:20260423T214300
CREATED:20260109T000418Z
LAST-MODIFIED:20260406T155454Z
UID:4371-1782126000-1782126000@westshorevillage.net
SUMMARY:Water Aerobics / Bring A Noodle
DESCRIPTION:
URL:https://westshorevillage.net/event/water-aerobics-bring-a-noodle-19/
LOCATION:Pool
END:VEVENT
BEGIN:VEVENT
DTSTART;TZID=America/New_York:20260618T110000
DTEND;TZID=America/New_York:20260618T110000
DTSTAMP:20260423T214300
CREATED:20260109T000418Z
LAST-MODIFIED:20260406T154731Z
UID:4356-1781780400-1781780400@westshorevillage.net
SUMMARY:Water Aerobics / Bring A Noodle
DESCRIPTION:
URL:https://westshorevillage.net/event/water-aerobics-bring-a-noodle-5/
LOCATION:Pool
END:VEVENT
BEGIN:VEVENT
DTSTART;TZID=America/New_York:20260615T110000
DTEND;TZID=America/New_York:20260615T110000
DTSTAMP:20260423T214300
CREATED:20260109T000418Z
LAST-MODIFIED:20260406T155438Z
UID:4370-1781521200-1781521200@westshorevillage.net
SUMMARY:Water Aerobics / Bring A Noodle
DESCRIPTION:
URL:https://westshorevillage.net/event/water-aerobics-bring-a-noodle-18/
LOCATION:Pool
END:VEVENT
BEGIN:VEVENT
DTSTART;TZID=America/New_York:20260611T110000
DTEND;TZID=America/New_York:20260611T110000
DTSTAMP:20260423T214300
CREATED:20260109T000418Z
LAST-MODIFIED:20260406T154714Z
UID:4355-1781175600-1781175600@westshorevillage.net
SUMMARY:Water Aerobics / Bring A Noodle
DESCRIPTION:
URL:https://westshorevillage.net/event/water-aerobics-bring-a-noodle-4/
LOCATION:Pool
END:VEVENT
BEGIN:VEVENT
DTSTART;TZID=America/New_York:20260608T110000
DTEND;TZID=America/New_York:20260608T110000
DTSTAMP:20260423T214300
CREATED:20260109T000418Z
LAST-MODIFIED:20260406T155420Z
UID:4369-1780916400-1780916400@westshorevillage.net
SUMMARY:Water Aerobics / Bring A Noodle
DESCRIPTION:
URL:https://westshorevillage.net/event/water-aerobics-bring-a-noodle-13/
LOCATION:Pool
END:VEVENT
BEGIN:VEVENT
DTSTART;TZID=America/New_York:20260604T110000
DTEND;TZID=America/New_York:20260604T110000
DTSTAMP:20260423T214300
CREATED:20260109T000418Z
LAST-MODIFIED:20260406T154655Z
UID:4354-1780570800-1780570800@westshorevillage.net
SUMMARY:Water Aerobics / Bring A Noodle
DESCRIPTION:
URL:https://westshorevillage.net/event/water-aerobics-bring-a-noodle-3/
LOCATION:Pool
END:VEVENT
BEGIN:VEVENT
DTSTART;TZID=America/New_York:20260601T110000
DTEND;TZID=America/New_York:20260601T110000
DTSTAMP:20260423T214300
CREATED:20260109T000418Z
LAST-MODIFIED:20260406T155256Z
UID:4368-1780311600-1780311600@westshorevillage.net
SUMMARY:Water Aerobics / Bring A Noodle
DESCRIPTION:
URL:https://westshorevillage.net/event/water-aerobics-bring-a-noodle-17/
LOCATION:Pool
END:VEVENT
BEGIN:VEVENT
DTSTART;TZID=America/New_York:20260528T110000
DTEND;TZID=America/New_York:20260528T110000
DTSTAMP:20260423T214300
CREATED:20260109T000418Z
LAST-MODIFIED:20260406T154638Z
UID:4353-1779966000-1779966000@westshorevillage.net
SUMMARY:Water Aerobics / Bring A Noodle
DESCRIPTION:
URL:https://westshorevillage.net/event/water-aerobics-bring-a-noodle-2/
LOCATION:Pool
END:VEVENT
BEGIN:VEVENT
DTSTART;TZID=America/New_York:20260525T110000
DTEND;TZID=America/New_York:20260525T110000
DTSTAMP:20260423T214300
CREATED:20260109T000418Z
LAST-MODIFIED:20260406T154941Z
UID:4362-1779706800-1779706800@westshorevillage.net
SUMMARY:Water Aerobics / Bring A Noodle
DESCRIPTION:
URL:https://westshorevillage.net/event/water-aerobics-bring-a-noodle-11/
LOCATION:Pool
END:VEVENT
BEGIN:VEVENT
DTSTART;TZID=America/New_York:20260521T110000
DTEND;TZID=America/New_York:20260521T110000
DTSTAMP:20260423T214300
CREATED:20260109T000418Z
LAST-MODIFIED:20260406T154621Z
UID:4352-1779361200-1779361200@westshorevillage.net
SUMMARY:Water Aerobics / Bring A Noodle
DESCRIPTION:
URL:https://westshorevillage.net/event/water-aerobics-bring-a-noodle/
LOCATION:Pool
END:VEVENT
BEGIN:VEVENT
DTSTART;TZID=America/New_York:20260518T110000
DTEND;TZID=America/New_York:20260518T110000
DTSTAMP:20260423T214300
CREATED:20260109T000418Z
LAST-MODIFIED:20260406T154924Z
UID:4361-1779102000-1779102000@westshorevillage.net
SUMMARY:Water Aerobics / Bring A Noodle
DESCRIPTION:
URL:https://westshorevillage.net/event/water-aerobics-bring-a-noodle-10/
LOCATION:Pool
END:VEVENT
BEGIN:VEVENT
DTSTART;TZID=America/New_York:20260514T110000
DTEND;TZID=America/New_York:20260514T110000
DTSTAMP:20260423T214300
CREATED:20260109T000418Z
LAST-MODIFIED:20260406T154814Z
UID:4351-1778756400-1778756400@westshorevillage.net
SUMMARY:Water Aerobics / Bring A Noodle
DESCRIPTION:
URL:https://westshorevillage.net/event/copy-of-water-aerobics-bring-a-noodle/
LOCATION:Pool
END:VEVENT
BEGIN:VEVENT
DTSTART;TZID=America/New_York:20260511T110000
DTEND;TZID=America/New_York:20260511T110000
DTSTAMP:20260423T214300
CREATED:20260109T000418Z
LAST-MODIFIED:20260406T154907Z
UID:4360-1778497200-1778497200@westshorevillage.net
SUMMARY:Water Aerobics / Bring A Noodle
DESCRIPTION:
URL:https://westshorevillage.net/event/water-aerobics-bring-a-noodle-9/
LOCATION:Pool
END:VEVENT
BEGIN:VEVENT
DTSTART;TZID=America/New_York:20260509T120000
DTEND;TZID=America/New_York:20260509T180000
DTSTAMP:20260423T214300
CREATED:20260115T214743Z
LAST-MODIFIED:20260115T214743Z
UID:4215-1778328000-1778349600@westshorevillage.net
SUMMARY:Private Event
DESCRIPTION:
URL:https://westshorevillage.net/event/private-event-29/
END:VEVENT
BEGIN:VEVENT
DTSTART;TZID=America/New_York:20260507T110000
DTEND;TZID=America/New_York:20260507T110000
DTSTAMP:20260423T214300
CREATED:20260109T000418Z
LAST-MODIFIED:20260406T154830Z
UID:4358-1778151600-1778151600@westshorevillage.net
SUMMARY:Water Aerobics / Bring A Noodle
DESCRIPTION:
URL:https://westshorevillage.net/event/water-aerobics-bring-a-noodle-7/
LOCATION:Pool
END:VEVENT
BEGIN:VEVENT
DTSTART;TZID=America/New_York:20260504T110000
DTEND;TZID=America/New_York:20260504T110000
DTSTAMP:20260423T214300
CREATED:20260109T000418Z
LAST-MODIFIED:20260406T154851Z
UID:4359-1777892400-1777892400@westshorevillage.net
SUMMARY:Water Aerobics / Bring A Noodle
DESCRIPTION:
URL:https://westshorevillage.net/event/water-aerobics-bring-a-noodle-8/
LOCATION:Pool
END:VEVENT
BEGIN:VEVENT
DTSTART;TZID=America/New_York:20260430T110000
DTEND;TZID=America/New_York:20260430T110000
DTSTAMP:20260423T214300
CREATED:20260109T000418Z
LAST-MODIFIED:20260406T154527Z
UID:4207-1777546800-1777546800@westshorevillage.net
SUMMARY:Water Aerobics / Bring A Noodle
DESCRIPTION:
URL:https://westshorevillage.net/event/water-aerobics-74/
LOCATION:Pool
END:VEVENT
BEGIN:VEVENT
DTSTART;TZID=America/New_York:20260430T093000
DTEND;TZID=America/New_York:20260430T110000
DTSTAMP:20260423T214300
CREATED:20250612T134912Z
LAST-MODIFIED:20260202T205544Z
UID:4272-1777541400-1777546800@westshorevillage.net
SUMMARY:Shuffleboard
DESCRIPTION:
URL:https://westshorevillage.net/event/shuffleboard-63/
END:VEVENT
BEGIN:VEVENT
DTSTART;TZID=America/New_York:20260429T180000
DTEND;TZID=America/New_York:20260429T190000
DTSTAMP:20260423T214300
CREATED:20250612T134522Z
LAST-MODIFIED:20260202T205355Z
UID:4267-1777485600-1777489200@westshorevillage.net
SUMMARY:Dominoes
DESCRIPTION:
URL:https://westshorevillage.net/event/dominoes-49/
LOCATION:Club House
END:VEVENT
BEGIN:VEVENT
DTSTART;TZID=America/New_York:20260428T180000
DTEND;TZID=America/New_York:20260428T180000
DTSTAMP:20260423T214300
CREATED:20251218T191017Z
LAST-MODIFIED:20260202T205210Z
UID:4262-1777399200-1777399200@westshorevillage.net
SUMMARY:Mahjong
DESCRIPTION:
URL:https://westshorevillage.net/event/mahjong-20/
LOCATION:Club House
END:VEVENT
BEGIN:VEVENT
DTSTART;TZID=America/New_York:20260428T100000
DTEND;TZID=America/New_York:20260428T110000
DTSTAMP:20260423T214300
CREATED:20251103T213011Z
LAST-MODIFIED:20260202T205022Z
UID:4258-1777370400-1777374000@westshorevillage.net
SUMMARY:Line Dancing
DESCRIPTION:
URL:https://westshorevillage.net/event/line-dancing-27/
LOCATION:Club House
END:VEVENT
BEGIN:VEVENT
DTSTART;TZID=America/New_York:20260427T190000
DTEND;TZID=America/New_York:20260427T210000
DTSTAMP:20260423T214300
CREATED:20251105T203027Z
LAST-MODIFIED:20260202T204536Z
UID:4250-1777316400-1777323600@westshorevillage.net
SUMMARY:Euchre
DESCRIPTION:
URL:https://westshorevillage.net/event/euchre-31/
LOCATION:Club House
END:VEVENT
BEGIN:VEVENT
DTSTART;TZID=America/New_York:20260427T110000
DTEND;TZID=America/New_York:20260427T110000
DTSTAMP:20260423T214300
CREATED:20260109T000418Z
LAST-MODIFIED:20260406T155150Z
UID:4367-1777287600-1777287600@westshorevillage.net
SUMMARY:Water Aerobics / Bring A Noodle
DESCRIPTION:
URL:https://westshorevillage.net/event/water-aerobics-bring-a-noodle-16/
LOCATION:Pool
END:VEVENT
BEGIN:VEVENT
DTSTART;TZID=America/New_York:20260427T090000
DTEND;TZID=America/New_York:20260427T090000
DTSTAMP:20260423T214300
CREATED:20250701T174721Z
LAST-MODIFIED:20260202T204841Z
UID:4254-1777280400-1777280400@westshorevillage.net
SUMMARY:Pickleball
DESCRIPTION:
URL:https://westshorevillage.net/event/pickleball-94/
LOCATION:Pickleball Court
END:VEVENT
BEGIN:VEVENT
DTSTART;TZID=America/New_York:20260425T090000
DTEND;TZID=America/New_York:20260425T090000
DTSTAMP:20260423T214300
CREATED:20250701T174721Z
LAST-MODIFIED:20260202T205858Z
UID:4279-1777107600-1777107600@westshorevillage.net
SUMMARY:Pickleball
DESCRIPTION:
URL:https://westshorevillage.net/event/pickleball-97/
LOCATION:Pickleball Court
END:VEVENT
BEGIN:VEVENT
DTSTART;TZID=America/New_York:20260424T090000
DTEND;TZID=America/New_York:20260424T110000
DTSTAMP:20260423T214300
CREATED:20250701T180503Z
LAST-MODIFIED:20260202T205735Z
UID:4276-1777021200-1777028400@westshorevillage.net
SUMMARY:Tennis
DESCRIPTION:
URL:https://westshorevillage.net/event/tennis-50/
LOCATION:Tennis Court
END:VEVENT
BEGIN:VEVENT
DTSTART;TZID=America/New_York:20260423T110000
DTEND;TZID=America/New_York:20260423T110000
DTSTAMP:20260423T214300
CREATED:20260109T000418Z
LAST-MODIFIED:20260406T154452Z
UID:4206-1776942000-1776942000@westshorevillage.net
SUMMARY:Water Aerobics / Bring A Noodle
DESCRIPTION:
URL:https://westshorevillage.net/event/water-aerobics-73/
LOCATION:Pool
END:VEVENT
END:VCALENDAR