BEGIN:VCALENDAR
VERSION:2.0
PRODID:-//West Shore Village Boca Bay - ECPv6.15.20//NONSGML v1.0//EN
CALSCALE:GREGORIAN
METHOD:PUBLISH
X-WR-CALNAME:West Shore Village Boca Bay
X-ORIGINAL-URL:https://westshorevillage.net
X-WR-CALDESC:Events for West Shore Village Boca Bay
REFRESH-INTERVAL;VALUE=DURATION:PT1H
X-Robots-Tag:noindex
X-PUBLISHED-TTL:PT1H
BEGIN:VTIMEZONE
TZID:America/New_York
BEGIN:DAYLIGHT
TZOFFSETFROM:-0500
TZOFFSETTO:-0400
TZNAME:EDT
DTSTART:20240310T070000
END:DAYLIGHT
BEGIN:STANDARD
TZOFFSETFROM:-0400
TZOFFSETTO:-0500
TZNAME:EST
DTSTART:20241103T060000
END:STANDARD
BEGIN:DAYLIGHT
TZOFFSETFROM:-0500
TZOFFSETTO:-0400
TZNAME:EDT
DTSTART:20250309T070000
END:DAYLIGHT
BEGIN:STANDARD
TZOFFSETFROM:-0400
TZOFFSETTO:-0500
TZNAME:EST
DTSTART:20251102T060000
END:STANDARD
BEGIN:DAYLIGHT
TZOFFSETFROM:-0500
TZOFFSETTO:-0400
TZNAME:EDT
DTSTART:20260308T070000
END:DAYLIGHT
BEGIN:STANDARD
TZOFFSETFROM:-0400
TZOFFSETTO:-0500
TZNAME:EST
DTSTART:20261101T060000
END:STANDARD
END:VTIMEZONE
BEGIN:VEVENT
DTSTART;TZID=America/New_York:20250626T180000
DTEND;TZID=America/New_York:20250626T180000
DTSTAMP:20260419T194517
CREATED:20250323T232905Z
LAST-MODIFIED:20250624T165545Z
UID:3522-1750960800-1750960800@westshorevillage.net
SUMMARY:Board of Directors Meeting-TIME CHANGED TO 6:00 PM
DESCRIPTION:Start time of meeting has been changed to begin at 6:00 pm.
URL:https://westshorevillage.net/event/board-of-directors-meeting-8/
LOCATION:Club House
END:VEVENT
BEGIN:VEVENT
DTSTART;TZID=America/New_York:20250626T093000
DTEND;TZID=America/New_York:20250626T110000
DTSTAMP:20260419T194517
CREATED:20250407T004838Z
LAST-MODIFIED:20250407T005354Z
UID:3571-1750930200-1750935600@westshorevillage.net
SUMMARY:Shuffleboard
DESCRIPTION:
URL:https://westshorevillage.net/event/shuffleboard-24/
END:VEVENT
BEGIN:VEVENT
DTSTART;TZID=America/New_York:20250625T190000
DTEND;TZID=America/New_York:20250625T200000
DTSTAMP:20260419T194517
CREATED:20250407T004420Z
LAST-MODIFIED:20250612T134405Z
UID:3557-1750878000-1750881600@westshorevillage.net
SUMMARY:Dominoes
DESCRIPTION:
URL:https://westshorevillage.net/event/dominos-13/
LOCATION:Club House
END:VEVENT
BEGIN:VEVENT
DTSTART;TZID=America/New_York:20250619T093000
DTEND;TZID=America/New_York:20250619T110000
DTSTAMP:20260419T194517
CREATED:20250407T004838Z
LAST-MODIFIED:20250407T005335Z
UID:3570-1750325400-1750330800@westshorevillage.net
SUMMARY:Shuffleboard
DESCRIPTION:
URL:https://westshorevillage.net/event/shuffleboard-23/
END:VEVENT
BEGIN:VEVENT
DTSTART;TZID=America/New_York:20250618T190000
DTEND;TZID=America/New_York:20250618T200000
DTSTAMP:20260419T194517
CREATED:20250407T004420Z
LAST-MODIFIED:20250612T134345Z
UID:3556-1750273200-1750276800@westshorevillage.net
SUMMARY:Dominoes
DESCRIPTION:
URL:https://westshorevillage.net/event/dominos-12/
LOCATION:Club House
END:VEVENT
BEGIN:VEVENT
DTSTART;TZID=America/New_York:20250616T090000
DTEND;TZID=America/New_York:20250616T090000
DTSTAMP:20260419T194517
CREATED:20250323T233145Z
LAST-MODIFIED:20250323T233302Z
UID:3528-1750064400-1750064400@westshorevillage.net
SUMMARY:Monday Workshop
DESCRIPTION:
URL:https://westshorevillage.net/event/monday-workshop-10/
LOCATION:Club House
END:VEVENT
BEGIN:VEVENT
DTSTART;TZID=America/New_York:20250612T093000
DTEND;TZID=America/New_York:20250612T110000
DTSTAMP:20260419T194517
CREATED:20250407T004838Z
LAST-MODIFIED:20250407T005320Z
UID:3569-1749720600-1749726000@westshorevillage.net
SUMMARY:Shuffleboard
DESCRIPTION:
URL:https://westshorevillage.net/event/shuffleboard-22/
END:VEVENT
BEGIN:VEVENT
DTSTART;TZID=America/New_York:20250611T190000
DTEND;TZID=America/New_York:20250611T200000
DTSTAMP:20260419T194517
CREATED:20250407T004420Z
LAST-MODIFIED:20250612T134320Z
UID:3555-1749668400-1749672000@westshorevillage.net
SUMMARY:Dominoes
DESCRIPTION:
URL:https://westshorevillage.net/event/dominos-11/
LOCATION:Club House
END:VEVENT
BEGIN:VEVENT
DTSTART;TZID=America/New_York:20250609T110000
DTEND;TZID=America/New_York:20250609T120000
DTSTAMP:20260419T194517
CREATED:20250407T003454Z
LAST-MODIFIED:20250407T004226Z
UID:3546-1749466800-1749470400@westshorevillage.net
SUMMARY:Water Aerobics
DESCRIPTION:Bring a pool noodle with you.
URL:https://westshorevillage.net/event/aerobics-6/
LOCATION:Pool
END:VEVENT
BEGIN:VEVENT
DTSTART;TZID=America/New_York:20250605T093000
DTEND;TZID=America/New_York:20250605T110000
DTSTAMP:20260419T194517
CREATED:20250407T004838Z
LAST-MODIFIED:20250407T005221Z
UID:3558-1749115800-1749121200@westshorevillage.net
SUMMARY:Shuffleboard
DESCRIPTION:
URL:https://westshorevillage.net/event/shuffleboard-11/
END:VEVENT
BEGIN:VEVENT
DTSTART;TZID=America/New_York:20250604T190000
DTEND;TZID=America/New_York:20250604T200000
DTSTAMP:20260419T194517
CREATED:20250407T004420Z
LAST-MODIFIED:20250612T134259Z
UID:3554-1749063600-1749067200@westshorevillage.net
SUMMARY:Dominoes
DESCRIPTION:
URL:https://westshorevillage.net/event/dominos-10/
LOCATION:Club House
END:VEVENT
BEGIN:VEVENT
DTSTART;TZID=America/New_York:20250603T160000
DTEND;TZID=America/New_York:20250603T160000
DTSTAMP:20260419T194517
CREATED:20250603T132611Z
LAST-MODIFIED:20250603T132617Z
UID:3632-1748966400-1748966400@westshorevillage.net
SUMMARY:Infrastructure Committee Meeting
DESCRIPTION:WEST SHORE VILLAGE MASTER CORPORATION INC.\nINFRASTUCTURE COMMITTEE MEETING\nJune 3\, 2025 at 4:00PM \nPLACE: West Shore Village Clubhouse\n3250 40th Street South\, St. Pete. \nA G E N D A\n1. Call to order/ Proof of Notice\n2. New Business \nAll American Access Control update and bid proposal\nG.A. Nichols Company update and bid proposal \n3. Adjournment
URL:https://westshorevillage.net/event/infrastructure-committee-meeting-2/
LOCATION:Club House
END:VEVENT
BEGIN:VEVENT
DTSTART;TZID=America/New_York:20250602T110000
DTEND;TZID=America/New_York:20250602T120000
DTSTAMP:20260419T194517
CREATED:20250407T003454Z
LAST-MODIFIED:20250407T004148Z
UID:3545-1748862000-1748865600@westshorevillage.net
SUMMARY:Water Aerobics
DESCRIPTION:Bring a pool noodle with you.
URL:https://westshorevillage.net/event/aerobics-5/
LOCATION:Pool
END:VEVENT
BEGIN:VEVENT
DTSTART;TZID=America/New_York:20250602T090000
DTEND;TZID=America/New_York:20250602T090000
DTSTAMP:20260419T194517
CREATED:20250323T233145Z
LAST-MODIFIED:20250323T233240Z
UID:3526-1748854800-1748854800@westshorevillage.net
SUMMARY:Monday Workshop
DESCRIPTION:
URL:https://westshorevillage.net/event/monday-workshop-9/
LOCATION:Club House
END:VEVENT
BEGIN:VEVENT
DTSTART;TZID=America/New_York:20250531T100000
DTEND;TZID=America/New_York:20250531T180000
DTSTAMP:20260419T194517
CREATED:20250516T213809Z
LAST-MODIFIED:20250516T213814Z
UID:3615-1748685600-1748714400@westshorevillage.net
SUMMARY:Private Event
DESCRIPTION:
URL:https://westshorevillage.net/event/private-event-23/
LOCATION:Club House
END:VEVENT
BEGIN:VEVENT
DTSTART;TZID=America/New_York:20250529T093000
DTEND;TZID=America/New_York:20250529T110000
DTSTAMP:20260419T194517
CREATED:20250407T004838Z
LAST-MODIFIED:20250407T005200Z
UID:3568-1748511000-1748516400@westshorevillage.net
SUMMARY:Shuffleboard
DESCRIPTION:
URL:https://westshorevillage.net/event/shuffleboard-21/
END:VEVENT
BEGIN:VEVENT
DTSTART;TZID=America/New_York:20250528T190000
DTEND;TZID=America/New_York:20250528T200000
DTSTAMP:20260419T194517
CREATED:20250407T004420Z
LAST-MODIFIED:20250407T004520Z
UID:3553-1748458800-1748462400@westshorevillage.net
SUMMARY:Dominos
DESCRIPTION:
URL:https://westshorevillage.net/event/dominos-9/
LOCATION:Club House
END:VEVENT
BEGIN:VEVENT
DTSTART;TZID=America/New_York:20250526T130000
DTEND;TZID=America/New_York:20250526T130000
DTSTAMP:20260419T194517
CREATED:20250426T155819Z
LAST-MODIFIED:20250426T155824Z
UID:3598-1748264400-1748264400@westshorevillage.net
SUMMARY:Memorial Day Picnic
DESCRIPTION:Join Us for the Westshore Village Memorial Day Picnic! \nLet’s kick off the summer season together! The annual Memorial Day Picnic at Westshore Village will be held on Monday\, May 26 at 1:00 PM at the pool area. \nWe invite all residents to bring: \n\nYour favorite beverage\nA side dish to share with your neighbors\n\nGet ready for some extra fun: \n\nA 50/50 raffle – bring cash if you’d like to participate!\nCornhole on the lawn\nJenga\n\nWe’ll be firing up the grill and providing hamburgers\, hotdogs\, rolls\, and all the fixings\, so come hungry and ready for a fun afternoon with friends and neighbors! \nThis is a great chance to relax\, catch up with familiar faces\, and meet new ones as we welcome the warmer days ahead. Whether you’re a long-time resident or new to the neighborhood\, we’d love to see you there! \nWhy We Honor Memorial Day \nWhile Memorial Day often marks the unofficial start of summer\, it’s first and foremost a day of remembrance. Originally known as Decoration Day\, it began after the Civil War to honor the soldiers who lost their lives in battle. Over time\, it evolved into a national observance to remember all American military personnel who have died in service to our country. \nObserved on the last Monday of May\, Memorial Day is a time to reflect on the sacrifices made for the freedoms we enjoy today. At 3:00 PM local time\, a National Moment of Remembrance is observed across the country. We encourage everyone to take a quiet moment during our gathering to honor the brave men and women who gave their lives in service. \nLet’s come together as a community to celebrate\, remember\, and enjoy the company of one another. \nWe look forward to seeing you on May 26th!
URL:https://westshorevillage.net/event/memorial-day-picnic/
LOCATION:Pool
END:VEVENT
BEGIN:VEVENT
DTSTART;TZID=America/New_York:20250526T110000
DTEND;TZID=America/New_York:20250526T120000
DTSTAMP:20260419T194517
CREATED:20250407T003454Z
LAST-MODIFIED:20250407T004114Z
UID:3544-1748257200-1748260800@westshorevillage.net
SUMMARY:Water Aerobics
DESCRIPTION:Bring a pool noodle with you.
URL:https://westshorevillage.net/event/aerobics-4/
LOCATION:Pool
END:VEVENT
BEGIN:VEVENT
DTSTART;TZID=America/New_York:20250526T083000
DTEND;TZID=America/New_York:20250526T083000
DTSTAMP:20260419T194517
CREATED:20250525T143516Z
LAST-MODIFIED:20250525T143520Z
UID:3625-1748248200-1748248200@westshorevillage.net
SUMMARY:Set up for Picnic
DESCRIPTION:Please join us at 8:30 am to set up for our Memorial Day Picnic which begins at 1:00 pm.  We welcome anyone that can assist. \n  \nThank you\,
URL:https://westshorevillage.net/event/set-up-for-picnic/
LOCATION:Pool
END:VEVENT
BEGIN:VEVENT
DTSTART;TZID=America/New_York:20250522T183000
DTEND;TZID=America/New_York:20250522T183000
DTSTAMP:20260419T194517
CREATED:20250323T232905Z
LAST-MODIFIED:20250404T105915Z
UID:3521-1747938600-1747938600@westshorevillage.net
SUMMARY:Board of Directors Meeting
DESCRIPTION:
URL:https://westshorevillage.net/event/board-of-directors-meeting-7/
LOCATION:Club House
END:VEVENT
BEGIN:VEVENT
DTSTART;TZID=America/New_York:20250522T093000
DTEND;TZID=America/New_York:20250522T110000
DTSTAMP:20260419T194517
CREATED:20250407T004838Z
LAST-MODIFIED:20250407T005146Z
UID:3567-1747906200-1747911600@westshorevillage.net
SUMMARY:Shuffleboard
DESCRIPTION:
URL:https://westshorevillage.net/event/shuffleboard-20/
END:VEVENT
BEGIN:VEVENT
DTSTART;TZID=America/New_York:20250521T190000
DTEND;TZID=America/New_York:20250521T200000
DTSTAMP:20260419T194517
CREATED:20250407T004420Z
LAST-MODIFIED:20250407T004456Z
UID:3552-1747854000-1747857600@westshorevillage.net
SUMMARY:Dominos
DESCRIPTION:
URL:https://westshorevillage.net/event/dominos-8/
LOCATION:Club House
END:VEVENT
BEGIN:VEVENT
DTSTART;TZID=America/New_York:20250519T110000
DTEND;TZID=America/New_York:20250519T120000
DTSTAMP:20260419T194517
CREATED:20250407T003454Z
LAST-MODIFIED:20250407T004047Z
UID:3543-1747652400-1747656000@westshorevillage.net
SUMMARY:Water Aerobics
DESCRIPTION:Bring a pool noodle with you.
URL:https://westshorevillage.net/event/aerobics-3/
LOCATION:Pool
END:VEVENT
BEGIN:VEVENT
DTSTART;TZID=America/New_York:20250519T090000
DTEND;TZID=America/New_York:20250519T090000
DTSTAMP:20260419T194517
CREATED:20250309T185718Z
LAST-MODIFIED:20250309T185936Z
UID:3437-1747645200-1747645200@westshorevillage.net
SUMMARY:Monday Workshop
DESCRIPTION:
URL:https://westshorevillage.net/event/monday-workshop-7/
LOCATION:Club House
END:VEVENT
BEGIN:VEVENT
DTSTART;TZID=America/New_York:20250515T093000
DTEND;TZID=America/New_York:20250515T110000
DTSTAMP:20260419T194517
CREATED:20250407T004838Z
LAST-MODIFIED:20250407T005130Z
UID:3566-1747301400-1747306800@westshorevillage.net
SUMMARY:Shuffleboard
DESCRIPTION:
URL:https://westshorevillage.net/event/shuffleboard-19/
END:VEVENT
BEGIN:VEVENT
DTSTART;TZID=America/New_York:20250514T190000
DTEND;TZID=America/New_York:20250514T200000
DTSTAMP:20260419T194517
CREATED:20250407T004420Z
LAST-MODIFIED:20250407T004439Z
UID:3551-1747249200-1747252800@westshorevillage.net
SUMMARY:Dominos
DESCRIPTION:
URL:https://westshorevillage.net/event/dominos-7/
LOCATION:Club House
END:VEVENT
BEGIN:VEVENT
DTSTART;TZID=America/New_York:20250514T103000
DTEND;TZID=America/New_York:20250514T180000
DTSTAMP:20260419T194517
CREATED:20250315T140709Z
LAST-MODIFIED:20250315T140713Z
UID:3446-1747218600-1747245600@westshorevillage.net
SUMMARY:Private Event
DESCRIPTION:Contact Susie Healy with questions. \n860-913-8580
URL:https://westshorevillage.net/event/private-event-22/
LOCATION:Club House
END:VEVENT
BEGIN:VEVENT
DTSTART;TZID=America/New_York:20250512T110000
DTEND;TZID=America/New_York:20250512T120000
DTSTAMP:20260419T194517
CREATED:20250407T003454Z
LAST-MODIFIED:20250407T004021Z
UID:3542-1747047600-1747051200@westshorevillage.net
SUMMARY:Water Aerobics
DESCRIPTION:Bring a pool noodle with you.
URL:https://westshorevillage.net/event/aerobics-2/
LOCATION:Pool
END:VEVENT
BEGIN:VEVENT
DTSTART;TZID=America/New_York:20250508T093000
DTEND;TZID=America/New_York:20250508T110000
DTSTAMP:20260419T194517
CREATED:20250407T004838Z
LAST-MODIFIED:20250407T005114Z
UID:3565-1746696600-1746702000@westshorevillage.net
SUMMARY:Shuffleboard
DESCRIPTION:
URL:https://westshorevillage.net/event/shuffleboard-18/
END:VEVENT
END:VCALENDAR